BEGIN:VCALENDAR
VERSION:2.0
PRODID:-//tapahtumainfo.fi//NONSGML Tuomaan markkinat 2022//EN
METHOD:REQUEST
BEGIN:VEVENT
UID:20260422T053304-1450764470-tapahtumainfo.fi
DTSTAMP:20260422T053304
DTSTART:20221201T020000Z
DTEND:20221222T020000Z
LOCATION:Senaatintori
SUMMARY:Tuomaan markkinat 2022
DESCRIPTION:<html><head></head><body>Tuomaan Markkinat on Helsingin vanhin ja kaunein ulkoilmassa järjestettävä joulutori. Markkinoilla panostetaan herkullisiin ruokakokemuksiin, persoonallisiin ja laadukkaisiin lahjoihin sekä kiireettömään joulun tunnelmaan. Markkinoiden sydämenä toimivat karuselli sekä ruoka- ja kahvilapiha, joka kutsuu viihtymään ja maistelemaan joulun makuja. <br /><br />  Visit event in our website: <a href='https://tapahtumainfo.fi/tapahtuma/2022/12/tuomaan-markkinat-2022/296991'>Tapahtumainfo.fi</a></body></html>
END:VEVENT
END:VCALENDAR
