BEGIN:VCALENDAR
VERSION:2.0
PRODID:-//tapahtumainfo.fi//NONSGML Nuorten Joulupöytä 2022//EN
METHOD:REQUEST
BEGIN:VEVENT
UID:20260422T053309-1332703967-tapahtumainfo.fi
DTSTAMP:20260422T053309
DTSTART:20221230T110000Z
DTEND:20221230T170000Z
LOCATION:Galleria Pirkko-Liisa Topelius
SUMMARY:Nuorten Joulupöytä 2022
DESCRIPTION:<html><head></head><body>Tämä Vuonna Gallerian perinteinen joulupöytä kerää yhteen opiskelijoita ja vastavalmistuneita nuoria taiteilijoita.<br>Joulupöydästä löytyy pukinkonttiin printtejä, grafiikkaa, koruja, keramiikkaa, maalauksia ja vaikka mitä. Tervetuloa tutustumaan, näyttely on TAKE AWAY ja teokset saa mukaansa heti.<div><br></div><div><div><p>Joulupöydän taiteilijat:</p><p>Ahola Anniina<br>Bardy Felix<br>Kerkis Josua<br>Koski Nemo<br>Laine Jenna<br>Lehto Saima<br>Lempeä Emmi<br>Dead Seal / Lana Petkun<br>Skippari Terhi<br>Tiukkanen Marika</p></div></div> <br /><br />  Visit event in our website: <a href='https://tapahtumainfo.fi/tapahtuma/2022/12/nuorten-joulupoyta-2022/297475'>Tapahtumainfo.fi</a></body></html>
END:VEVENT
END:VCALENDAR
