BEGIN:VCALENDAR
VERSION:2.0
PRODID:-//tapahtumainfo.fi//NONSGML FC Barcelona Camp 12-18  vuotiaat 5.-9.6.2023//EN
METHOD:REQUEST
BEGIN:VEVENT
UID:20260422T053537-463735145-tapahtumainfo.fi
DTSTAMP:20260422T053537
DTSTART:20230605T143000Z
DTEND:20230605T020000Z
LOCATION:Koudan nurmi ja tekonurmi
SUMMARY:FC Barcelona Camp 12-18  vuotiaat 5.-9.6.2023
DESCRIPTION:<html><head></head><body>Esittelemme suomalaisille lapsille FC Barcelonan ainutl aatuisen pelitavan, joka on tuonut seuralle monia unohtumattomia saavutuksia vuosien varrella.Painopisteenä on korkealaatuinen valmennus, joka yhdistyy FC Barcelonan perusarvoihin: suvaitsevaisuuteen, kunnioitukseen, solidaarisuuteen, hyvään toveruuteen, kohteliaisuuteen ja integroitumiseen. Jalkapallokouluissa lapset pukeutuvat Barça Academy Campin T-paitoihin, shortseihin ja sukkiin. Leirin lopuksi jokainen lapsi saa virallisen Barça Academy Camp -diplomin. Valmennuksesta vastaavat FC Barcelonan akatemian ammattivalmentajat yhteistyössä suomalaisten valmentajien kanssa.  <br /><br />  Visit event in our website: <a href='https://tapahtumainfo.fi/tapahtuma/2023/06/fc-barcelona-camp-12-16-vuotiaat-5-9-6-2023/297491'>Tapahtumainfo.fi</a></body></html>
END:VEVENT
END:VCALENDAR
