BEGIN:VCALENDAR
VERSION:2.0
PRODID:-//tapahtumainfo.fi//NONSGML Tampereen joulutori 2022//EN
METHOD:REQUEST
BEGIN:VEVENT
UID:20260422T053237-919896576-tapahtumainfo.fi
DTSTAMP:20260422T053237
DTSTART:20221203T020000Z
DTEND:20221222T020000Z
LOCATION:Tampereen keskustori
SUMMARY:Tampereen joulutori 2022
DESCRIPTION:<html><head></head><body><p>Joulukuun ajan Keskustori on jälleen tunnelmallinen ja tuoksuva kylä, joka täyttyy käsityöläisten uniikeista luomuksista ja siitä aidosta joulun tunnelmasta.</p><p>Joulutoriin kuuluu olennaisesti jokapäiväinen ja monipuolinen ohjelma. Kuorot, lapsiryhmät, harrastajat ja tähtiartistit tuottavat tänäkin vuonna elämyksiä, joita muistellaan pitkään! Seuraa ohjelmia tällä sivustolla ja Facebook-sivuillamme.</p><p>Tuttuun tapaan kauppiaat kotimaasta ja Saksasta tuovat torille joulun tuoksut, maut ja tunnelman. Kuumia joulujuomia on tarjolla joka makuun.</p><p>Joulutorin käsityöläisten tuotevalikoimasta löydät laadukkaat käyttöesineet, koristeet, korut, lahjat ja lelut. Joukossa on myös asiakkaiden toiveiden mukaan toteutettuja tuotteita sekä erilaisia hyvän mielen lahjoja. Kotimainen käsityö on Joulutorilla arvossaan.</p><pstyle="margin-right: 0px;="" margin-bottom:="" 10px;="" margin-left:="" color:="" rgb(0,="" 0,="" 0);="" font-family:="" &quot;open="" sans&quot;,="" sans-serif;="" background-color:="" rgb(228,="" 228,="" 228);"=""><a href="https://tampereenjoulutori.fi/kauppiaat/kahvilat-ja-ravintolat/joulutorin-glogiravintola/">Glögiravintolastamme</a> on muodostunut joulutunnelmaa etsivien kohtaamispaikka. Lämpimässä ravintolassa viihdytään entistä pidempään, kertoo vuosittainen kuluttajatutkimuksemme. Tervetuloa nauttimaan Moro-Klökistä, Glühweinista ja muista kuumista (ja kylmistä) jouluisista juomista. Riisipuuro, keitto ja suolaiset pikkusyötävät löydät täältä myös. Kahdelta viime vuodelta tutut iglut saavat jatkoa tänäkin vuonna.<p></p><p>Glögiravintolan lisäksi Joulutorilta löydät Pyynikin Näkötornin <a href="https://tampereenjoulutori.fi/kauppiaat/kahvilat-ja-ravintolat/pyynikin-nakotornin-munkkikahvila/">Munkkikahvilan</a> herkkuja. Legendaarinen Näkötornin Munkkikahvilan munkki, kahvi ja glögi pitävät pintansa edelleen. Kahvila löytyy samalta paikalta tänäkin jouluna.</p><h3>Joulutori on avoinna joka päivä klo 11–19, Glögiravintola klo 11–20 ja Munkkikahvila 11–19.</h3><p><br></p></pstyle="margin-right:> <br /><br />  Visit event in our website: <a href='https://tapahtumainfo.fi/tapahtuma/2022/12/tampereen-joulutori-2022/297737'>Tapahtumainfo.fi</a></body></html>
END:VEVENT
END:VCALENDAR
