BEGIN:VCALENDAR
VERSION:2.0
PRODID:-//tapahtumainfo.fi//NONSGML Violent Night//EN
METHOD:REQUEST
BEGIN:VEVENT
UID:20260422T053142-1370056207-tapahtumainfo.fi
DTSTAMP:20260422T053142
DTSTART:20230102T193000Z
DTEND:20230102T212200Z
LOCATION:Tapio, Joensuu, Tapio 4
SUMMARY:Violent Night
DESCRIPTION:<html><head></head><body>Se joulurauhasta.<br /><br />Tuotantoyhtiö 87North tunnetaan iskevistä toimintaelokuvistaan Nobody, John Wick, Atomic Blonde, Deadpool 2, Bullet Train ja Fast & Furious: Hobbs & Shaw. Nyt se on tuottanut hiilenmustan toimintakomedian, jossa valttikortti on punainen.<br /><br />Varakkaan perheen kotiin hyökätään jouluaattona, ja kaikki otetaan panttivangeiksi. Hyökkääjät eivät vain ole varautuneet yllätystekijään: Joulupukki on paikalla ja näyttää, ettei tämä pukki ole kiltti.<br /><br />Elokuvan sähäkästä ohjauksesta vastaa norjalainen Tommy Wirkola. <br /><br />  Visit event in our website: <a href='https://tapahtumainfo.fi/tapahtuma/2022/12/violent-night/297741'>Tapahtumainfo.fi</a></body></html>
END:VEVENT
END:VCALENDAR
