BEGIN:VCALENDAR
VERSION:2.0
PRODID:-//tapahtumainfo.fi//NONSGML Vanhan Suurtorin Joulumarkkinat 2022//EN
METHOD:REQUEST
BEGIN:VEVENT
UID:20260422T053334-809307110-tapahtumainfo.fi
DTSTAMP:20260422T053334
DTSTART:20221217T020000Z
DTEND:20221218T020000Z
LOCATION:Turun kaupunki
SUMMARY:Vanhan Suurtorin Joulumarkkinat 2022
DESCRIPTION:<html><head></head><body><p>Joulumarkkinoilta löydät nähtävää ja tehtävää koko perheelle. Torin täyttävät käsityöläisten laadukkaat myyntituotteet ja jouluiset herkut sekä monenlaiset musiikki-, teatteri- ja sirkusesitykset. Pukin pajalla tapaat myös Joulupukin! Vanhalla Suurtorilla voit lisäksi nauttia talvisesta säästä lämpimän mehun kera.</p><p>Jos haluat tukea Vanhan Suurtorin Joulumarkkinoita järjestävää yhdistystä, voit liittyä yhdistyksen kannatusjäseneksi. Kannatusjäsenenä tuet historiallisten tapahtumien järjestämistä Vanhalla Suurtorilla, ja saat lisäksi rahanarvoisia jäsenetuja. Ohjeet kannatusjäseneksi liittymiseen <a href="https://www.suurtorinjoulumarkkinat.fi/kannatusjasenet/">täällä.</a></p><p>Vanhan Suurtorin Joulumarkkinat järjestää <a href="http://keskiaikaisetmarkkinat.fi/info/turun-suurtorin-keskiaika-ry/">Turun Suurtorin keskiaika ry</a>. Löydä joulumieli ja osta lahjat pukin konttiin yhdistyksen&nbsp;<a href="https://keskiaikaisetmarkkinat.mycashflow.fi/">verkkokaupasta</a>.</p><p>Vanhan Suurtorin Joulumarkkinat järjestetään Turun Vanhalla Suurtorilla neljänä adventtiviikonloppuna 26. – 27.11., 3. – 4.12., 10. – 11.12. ja 17. – 18.12.2022. klo 11−17.</p> <br /><br />  Visit event in our website: <a href='https://tapahtumainfo.fi/tapahtuma/2022/11/vanhan-suurtorin-joulumarkkinat-2022/297742'>Tapahtumainfo.fi</a></body></html>
END:VEVENT
END:VCALENDAR
