BEGIN:VCALENDAR
VERSION:2.0
PRODID:-//tapahtumainfo.fi//NONSGML Imagine Dragons//EN
METHOD:REQUEST
BEGIN:VEVENT
UID:20260423T183230-742585449-tapahtumainfo.fi
DTSTAMP:20260423T183230
DTSTART:20230816T170000Z
DTEND:20230816T020000Z
LOCATION:VINGIS PARK
SUMMARY:Imagine Dragons
DESCRIPTION:<html><head></head><body>Suomea lähinä oleva Imagine Drogonsin keikka v. 2023 on Liettuassa Vilnassa 16.8.2023. Yhdysvaltalainen Imagine Dragons lukeutuu tämän hetken menestyneimpiin rockyhtyeisiin. Yhtyeen muodostavat Dan Reynolds, Wayne Sermons, Ben McKee ja Daniel Platzman. Läpimurtosingle ”Radioactive” vuodelta 2012 nosti yhtyeen kertaheitolla vaihtoehtorockin kärkinimiin. Grammyllakin palkittu biisi pysytteli Yhdysvaltain Billboard-listalla peräti vuoden ja sai hurjasti radiosoittoa maailmanlaajuisesti, myös Suomessa. <br /><br />  Visit event in our website: <a href='https://tapahtumainfo.fi/tapahtuma/2023/08/imagine-dragons/297744'>Tapahtumainfo.fi</a></body></html>
END:VEVENT
END:VCALENDAR
