BEGIN:VCALENDAR
VERSION:2.0
PRODID:-//tapahtumainfo.fi//NONSGML CIRQUE DU SOLEIL - Crystal//EN
METHOD:REQUEST
BEGIN:VEVENT
UID:20260422T053237-157790900-tapahtumainfo.fi
DTSTAMP:20260422T053237
DTSTART:20230319T170000Z
DTEND:20230319T020000Z
LOCATION:ESPOO METRO AREENA
SUMMARY:CIRQUE DU SOLEIL - Crystal
DESCRIPTION:<html><head></head><body>Crystal on Cirque du Soleilin areena kiertu esitys, joka aloitettiin yleisölle lokakuussa 2017 ja jonka virallinen ensi-ilta oli joulukuussa 2017. Se on Cirque du Soleilin 42. alkuperäinen esitys sitten vuoden 1984 ja ensimmäinen luistinradalla, jossa Suurin osa esiintyjistä luistelee koko esityksen ajan ja yhdistää useita sirkusesityksiä korkeatasoiseen luisteluun. Sitä kuvataan naiseksi, joka murskaa todellisuuden löytääkseen itsensä mahdollisuuksien maailmasta. <br /><br />  Visit event in our website: <a href='https://tapahtumainfo.fi/tapahtuma/2023/03/cirque-du-soleil-crystal/297767'>Tapahtumainfo.fi</a></body></html>
END:VEVENT
END:VCALENDAR
