BEGIN:VCALENDAR
VERSION:2.0
PRODID:-//tapahtumainfo.fi//NONSGML Kuopiorock 2023//EN
METHOD:REQUEST
BEGIN:VEVENT
UID:20260419T163300-1803434498-tapahtumainfo.fi
DTSTAMP:20260419T163300
DTSTART:20230727T020000Z
DTEND:20230727T020000Z
LOCATION:Väinölänniemi
SUMMARY:Kuopiorock 2023
DESCRIPTION:<html><head></head><body><h1><strong>KUOPIOROCK 2023 - LIPUT & INFO</strong></h1><br /><p><strong>Kuopiorock tärähtää taas Vänärillä 27.-29.7.2023! </strong></p><br /><p>Savon suurin rockjärkäle täyttää kunnioitettavat 20-vuotta! Uusia artistikiinnityksiä on taas julkaistu. Vänärin päälavalla tahtia määräämässä yhdysvaltalainen metallilegenda Megadeth! Muita uusia artistikiinnityksiä ovat mm. Amorphis, Apulanta, Samu Haber sekä lukuisat muut!<br></p><br /><br /><p>Tähän asti julkaistut artistit: <br>MEGADETH, VV, AMORPHIS, APULANTA, HALOO HELSINKI!  APOCALYPTICA, SAMU HABER, POPEDA, BATTLE BEAST, BEAST IN BLACK,  EPICA, STAM1NA, TURMION KÄTILÖT, MICHAEL MONROE, THE 69 EYES, POETS OF THE FALL, KLAMYDIA, ISMO ALANKO, VESTERINEN YHTYEINEEN, MARISKA, HAPPORADIO,  ATOMIROTTA, PELLE MILJOONA & BAND, HUORA, PALEFACE, SAMAE KOSKINEN, APPENDIX, SILVER BULLET, LOS BASTARDOS FINLANDESES, ROSY DREAM, LUNA KILLS, KAIKKEUS </p><br /><br /><br /><br /><br /><p><a href="https://www.facebook.com/Kuopiorock" target="_blank">Facebook</a> | <a href="https://www.instagram.com/kuopiorock/" target="_blank">Instagram</a><br />@kuopiorock</p><br /><br /><p><strong>Lippujen varausaika 2 päivää.</strong></p><br /><p><strong>VIP-LIPPU (K-18) SISÄLTÄÄ:<br></strong>- Sisäänpääsyn festivaalialueelle<br><br />- Pääsyn VIP-alueelle<br><br />- VIP-passin kaulanauhalla sekä VIP-ranneke<br><br />- Buffetruokailu VIP-alueella<br><em>VIP-lippuja ei voi maksaa kulttuurieduilla.</em></p><br /><p><u><strong>MAJOITUS & LEIRINTÄALUE</strong></u><em><br></em></p><br /><p>Jokaisella asiakkaalla tulee olla festivaaliranneke majoituspäivästä tapahtuman loppuun asti SEKÄ leirintäranneke.<strong><em><br></em></strong></p><br /><p><strong>KARAVAANILIPPU (SÄHKÖTÖN)</strong><br>Asuntoautolle tai asuntovaunulle tarkoitettu majoituslippu. Ei sisällä sähköä.</p><br /><p>Karavaanilipulla voi tuoda Kuopiorockin leirintään karavaanikulkuneuvon (karavaaniauto, karavaanivaunu + vetoauto, retkeilypaku tms). Lippu vaihdetaan paikan päällä karavaanipaikkaa merkitsevään karavaanikorttiin.<br>Paikalle mahtuu:<br>1) auto ja kiinteä markiisi tai telttauraan kiinnitettävissä oleva etuteltta, jonka syvyys on max. 3 metriä<br>2) vaunu ja vetoauto<br>tai<br>3) vaunu ja kiinteä markiisi tai telttauraan kiinnitettävissä oleva etuteltta, jonka syvyys on maksimissaan 3 m. Tällöin vetoauto tulee ajaa erilliselle pysäköintipaikalle.<strong><br></strong></p><br /><p><strong>MATKAAJALIPPU (SÄHKÖTÖN)</strong><br>Matkailubussille tai muulle isommalle majoitukseen soveltuvalle ajoneuvolle tarkoitettu majoituslippu. Ei sisällä sähköä.</p><br /><p>Matkaajalipulla voi tuoda Kuopiorockin leirintään suurikokoisen matkailuajoneuvon, kuten esimerkiksi linja-auton, matkailubussin, nightlinerin, kuorma-auton, rekasta muutetun matkailuajoneuvon, saunan sisältävän matkailuajoneuvon tai muun vastaavan, majoituskäyttöön suunnitellun/muokatun ajoneuvon. Lippu vaihdetaan paikan päällä matkaajapaikkaa matkaajakorttiin.</p><br /><p>Paikalle mahtuu kiinteä tai telttauraan kiinnitettävä etuteltta tai markiisi, jonka syvyys on max 3 metriä. <br>Mikäli ajoneuvossa on sauna, tulee saapuessa esittää alkusammutuskalusto järjestyksenvalvojille.<strong></strong></p><br /><p><strong>TELTTAPAIKKA OMALLE TELTALLE NORMAALI TAI PUOLIJOUKKUETELTTA</strong><br>Telttapaikka-lipulla voi tuoda ja pystyttää oman teltan Kuopiorockin leirintäalueelle. Lippu on telttakohtainen, eli vaikka samassa teltassa majoittuisi kolme ihmistä, tarvitsee ryhmän ostaa vain yksi telttapaikka. <br></p><br /><p>Telttapaikkalippu vaihdetaan paikan päällä telttakorttiin.<strong></strong></p><br /><p><strong>AUTOPAIKKA LEIRINTÄALUEELTA</strong><br>Autopaikkalipulla voi tuoda Kuopiorockin leirintään, teltan viereen tai läheisyyteen yhden auton (henkilöauto) jossa säilyttää omaa omaisuuttaan telttailun ja leirinnän aikana. Autopaikkalippu on tarkoitettu majoittujille, Kuopiorockilla ei ole erillisiä parkkipaikkoja.</p><br /><p>Autopaikkalippu vaihdetaan paikan päällä autopaikkakorttiin.<strong><br></strong></p><br /><p><strong>LEIRINTÄLIPPU</strong><br>Jokaisella leirintäasiakkaalla tulee olla oma leirintäranneke sekä festivaalilippu, joka on voimassa majoittumispäivästä tapahtuman loppuun asti. <br>Leirintälippu vaihdetaan rannekkeeseen leirinnän sisäänkäynnillä, ja se on henkilökohtainen.<strong></strong> </p><br /><p><strong><u>SAAVUTETTAVUUS</u><br></strong>Avustajan pääsee aina tapahtumaan veloituksetta, mutta avustettavan <br />on ostettava pääsylippu. Myynnissä oleva ”pyörätuolilippu” on <br />tarkoitettu vain pyörätuolia käyttävälle asiakkaalle. Muut asiakkaat, <br />jotka tarvitsevat avustajaa päivittäiseen toimintaansa ostavat <br />tavallisen pääsylipun. Avustajakäytännöistä voit lukea lisää <a href="https://kuopiorock.fi/info/saavutettavuus/" target="_blank">täältä</a>.</p><br /><p><em>Lipunostaneiden yhteystiedot kerätään ja luovutetaan <br />tapahtumanjärjestäjälle tiedotusta ja ohjeistusta varten. Oikeudet <br />aikataulu- ja ohjelmamuutoksiin pidätetään.</em><br></p> <br /><br />  Visit event in our website: <a href='https://tapahtumainfo.fi/tapahtuma/2023/07/kuopiorock-2023/297862'>Tapahtumainfo.fi</a></body></html>
END:VEVENT
END:VCALENDAR
