BEGIN:VCALENDAR
VERSION:2.0
PRODID:-//tapahtumainfo.fi//NONSGML JOULUN RAUHAA - SAIJA TUUPANEN & TEEMU ROIVAINEN//EN
METHOD:REQUEST
BEGIN:VEVENT
UID:20260422T053742-473906876-tapahtumainfo.fi
DTSTAMP:20260422T053742
DTSTART:20221220T190000Z
DTEND:20221220T020000Z
LOCATION:Hollolan kirkko
SUMMARY:JOULUN RAUHAA - SAIJA TUUPANEN & TEEMU ROIVAINEN
DESCRIPTION:<html><head></head><body><b>Saija Tuupanen & Teemu Roivainen Joulun rauhaa </b><br><br>Kaksi tähtien lailla loistavaa laulajaa viime vuoden Syksyn Sävel-kilpailun voittaja kuningatar Saija Tuupanen ja musiikkitaivaan monitaituri kuningas Teemu Roivainen tunnelmoivat lämminhenkisellä 11 kaupunkia käsittävällä Joulun rauhaa -konserttikiertueella.<br><br>Konserteissa kuullaan perinteisiä, meille niin rakkaita joululauluja, mutta myös muutamia uudempia lauluja sekä jouluisia musiikkiyllätyksiä ja kauniita duettoja.<br><br>Konsertin kesto on noin 1 tunti ja 25 minuuttia.<br> <br /><br />  Visit event in our website: <a href='https://tapahtumainfo.fi/tapahtuma/2022/12/joulun-rauhaa-saija-tuupanen-teemu-roivainen/299503'>Tapahtumainfo.fi</a></body></html>
END:VEVENT
END:VCALENDAR
