BEGIN:VCALENDAR
VERSION:2.0
PRODID:-//tapahtumainfo.fi//NONSGML TÄÄLLÄ POHJANTÄHDEN ALLA//EN
METHOD:REQUEST
BEGIN:VEVENT
UID:20260419T162047-1029403983-tapahtumainfo.fi
DTSTAMP:20260419T162047
DTSTART:20230614T180000Z
DTEND:20230614T020000Z
LOCATION:Pyynikin kesäteatteri
SUMMARY:TÄÄLLÄ POHJANTÄHDEN ALLA
DESCRIPTION:<html><head></head><body>Rooleissa muun muassa Esa Latva-Äijö, joka oli mukana myös vuonna 1995 Pyynikillä Kalle Holmbergin ohjaamassa Pohjantähden alla -näytelmässä.<br><br>Ohjaus Antti Mikkola<br>Tekstin sovitus Sami Keski-Vähälä<br><br>Näytelmä on Pyynikin kesäteatterin, Tampereen Teatterin ja Tampereen Työväen Teatterin yhteistuotanto.<br> <br /><br />  Visit event in our website: <a href='https://tapahtumainfo.fi/tapahtuma/2023/06/taalla-pohjantahden-alla/299528'>Tapahtumainfo.fi</a></body></html>
END:VEVENT
END:VCALENDAR
