BEGIN:VCALENDAR
VERSION:2.0
PRODID:-//tapahtumainfo.fi//NONSGML JOULUKONSERTTI: VILLE RUSANEN JA KONSERVATORION KUOROT//EN
METHOD:REQUEST
BEGIN:VEVENT
UID:20260422T053647-837278621-tapahtumainfo.fi
DTSTAMP:20260422T053647
DTSTART:20221220T190000Z
DTEND:20221220T020000Z
LOCATION:Mikael Agricolan kirkko
SUMMARY:JOULUKONSERTTI: VILLE RUSANEN JA KONSERVATORION KUOROT
DESCRIPTION:<html><head></head><body><b>Kaartin soittokunnan</b> perinteisessä joulukonsertissa laulaa solistina baritoni <b>Ville Rusanen</b>. Mukana myös Helsingin Konservatorion kuoroja<b> Anna Noran</b> johdolla. Ohjelmistossa on juhlavaa puhallinmusiikkia ja tuttuja joululauluja!<br><br>Konsertin johtavat <b>Timo Kotilainen</b> ja <b>Aino Koskela</b>. <br /><br />  Visit event in our website: <a href='https://tapahtumainfo.fi/tapahtuma/2022/12/joulukonsertti-ville-rusanen-ja-konservatorion-kuorot/299785'>Tapahtumainfo.fi</a></body></html>
END:VEVENT
END:VCALENDAR
