BEGIN:VCALENDAR
VERSION:2.0
PRODID:-//tapahtumainfo.fi//NONSGML Helsingin uudenvuoden juhla vuodelle 2023//EN
METHOD:REQUEST
BEGIN:VEVENT
UID:20260422T053430-849566692-tapahtumainfo.fi
DTSTAMP:20260422T053430
DTSTART:20221231T173000Z
DTEND:20221231T020000Z
LOCATION:Kansalaistori
SUMMARY:Helsingin uudenvuoden juhla vuodelle 2023
DESCRIPTION:<html><head></head><body>Juhla lähtee käyntiin Paha Vaanii DJ-duon tahtiin klo 22.30 alkaen. Konsertin esiintyjäkavalkadin aloittaa Emma-palkittu F ja kovassa nosteessa olevaHassan Maikal, joita seuraa pormestari Juhana Vartiaisenuudenvuoden tervehdys. Tänä vuonna juhlakonsertin pääesiintyjät ovat harvinaisen yhteiskeikan tekevätIsac Elliot jaCledos. Kuluvan vuoden kuunnelluimmista kappaleista vastaava Isac Elliot on huomioitu lukuisilla kotimaisilla ja kansainvälisillä palkinnoilla. Cledos on multiplatinaa omilla ja feattaamillaan kappaleilla striimannut uuden aallon rap-musiikin kärkinimi. Uudenvuoden show nousee ennennäkemättömiin korkeuksiin näyttävän vierailijajoukon saattelemana. Lavalle nousevat mm.BEHM,william jaDAVI. Illan kruunaa Helsingin keskustan taivaan värittävä ilotulitus.<div><br></div><div>Emma Karasjoen jaGogi Mavromichaliksen juontama juhlakonsertti, ilotulitukset ja yleisön tunnelmia välitetään suorana lähetyksenä Yle TV1:ssä ja Yle Areenassa klo 22.50–00.30. Kaupungin yhteisen ilotulituksen jälkeen juhlat jatkuvat Kansalaistorilla Paha Vaanii dj-duon soittaman kotimaisen musiikin tahdittamana klo 00.30 asti.</div><div><b><br></b></div><div><p><b>Klo 17.30–18.00</b><br>Lasten uusivuosi: Pakkasdisco &amp; pienten ilotulitukset<br>MC New Ro, Dj Orkidea, StepUp Schoolin nuoret tanssijat ja Kuoro Galante. Alkuillan ohjelman kruunaa lasten ilotulitukset klo 18.</p></div><p><b>Klo 22.15–22.30</b><br>Vera Wall</p><p><b>Klo 22.30–00.30</b><br>Paha Vaanii -etkot / F &amp; Hassan Maikal / Pormestarin uudenvuoden tervehdys / Isac Elliot &amp; Cledos + BEHM, william, DAVI / Paha Vaanii -jatkot</p><p><b>Klo 00</b><br>Helsingin ilotulitukset</p><div><br></div><div><br></div><div><br></div><div><br></div> <br /><br />  Visit event in our website: <a href='https://tapahtumainfo.fi/tapahtuma/2022/12/helsingin-uudenvuoden-juhla-vuodelle-2023/303340'>Tapahtumainfo.fi</a></body></html>
END:VEVENT
END:VCALENDAR
