BEGIN:VCALENDAR
VERSION:2.0
PRODID:-//tapahtumainfo.fi//NONSGML Tuhdimmat Tahdit 2023//EN
METHOD:REQUEST
BEGIN:VEVENT
UID:20260423T183043-203413052-tapahtumainfo.fi
DTSTAMP:20260423T183043
DTSTART:20230616T020000Z
DTEND:20230616T020000Z
LOCATION:Ratinanniemen puisto
SUMMARY:Tuhdimmat Tahdit 2023
DESCRIPTION:<html><head></head><body><h3><strong></strong><strong>TUHDIMMAT TAHDIT 2023</strong></h3><br /><p><strong>Raskas musiikki palaa Ratinanniemeen kesäkuussa</strong></p><br /><p><strong>Metallifestivaali      Tuhdimmat Tahdit järjestetään Tampereella 16.-17.6.2023. </strong><strong>Pääesiintyjänä      20-vuotiasta Kurimus-albumia juhliva Mokoma.</strong></p><br /><ul><br /> <br /> <br /></ul><br /><p>Tampereen alkukesä saa raskasta täytettä, kun Tuhdimmat Tahdit -metallifestivaali täyttää Ratinanniemen tapahtumapuiston 16.-17.6.2023. Kaksipäiväisen festivaalin tähtinä nähdään tänään yli 2000 hengelle Tullikamarin Pakkahuoneella esiintyvä <strong>Battle Beast</strong>, ruotsalainen metalcore-jätti <strong>Dead By April </strong>sekä ainutkertaisen juhlakeikan 20 vuotta täyttävän Kurimus-albuminsa kunniaksi soittava metalliyhtye <strong>Mokoma</strong>.</p><br /><p>Ratinanniemen tapahtumapuistossa järjestettävän festivaalin esiintymislavalla nähdään myös maailmanlaajuista suursuosiota nauttiva <strong>Beast In Black</strong>, ensimmäisen keikkansa Tampereella yli 10 vuoteen soittava <strong>Before The Dawn</strong>, folk metal -ikoni <strong>Ensiferum</strong>, Tampereen keikkapaikat toistuvasti loppuunmyynyt <strong>Diablo</strong>, komeettamaista nousua suomimetallin eturiviin tekevät <strong>Bloodred Hourglass </strong>ja <strong>Brymir </strong>sekä jääkylmää synkkyyttä keskikesän aurinkoon tarjoavat <strong>Swallow The Sun </strong>ja <strong>Wolfheart</strong>. </p><br /><p>Yksi viikonlopun kiinnostavimmista nimistä on Kurimus-albuminsa 20-vuotispäiviä juhliva Mokoma. Idea ainutkertaiseen juhlakonserttiin oli muhinut yhtyeen leirissä jo jonkin aikaa.</p><br /><p><em>“Läpimurtolevymme Kurimus täyttää 20 vuotta! Isolta levy-yhtiöltä oli tullut kenkää, joten perustimme levyn julkaisua varten oman firman Sakara Recordsin Tampereella 2003. Perustamislomake täytettiin ja mainokset taitettiin tietokoneluokassa Finlaysonilla Tammerkosken virratessa ikkunan alla. Kurimuksen synttäreitä vietetään 20 vuotta myöhemmin osuvasti lähes samoissa maisemissa Ratinan puistossa Tuhdimmilla Tahdeilla. Keikalla kuullaan Kurimus kokonaisuudessaan sekä valikoituja hittejä vuosien varrelta.” </em>Mokoma kommentoi.</p><br /><p>Tuhdimmat Tahdit -festivaali järjestetään tänä kesänä ensimmäistä kertaa Tampereella. Vuosina 2010-13 ja 2022 tapahtuma järjestettiin Nokialla.</p><br /><p>Aikuisyleisölle suunnatulle festivaalilla nautitaan livemusiikin lisäksi monipuolisesta ruoka- ja juomatarjonnasta. Tapahtuman ikäraja on 18 vuotta.</p><br /><p><strong>Liput:</strong> </p><br /><p>Kahden päivän liput myynnissä hintaan 99,90€. Yhden päivän liput hintaan 59,90€<br>Kahden päivän priority-liput myynnissä hintaan 179,90€. Yhden päivän priorityt 99,90€.<strong></strong></p><br /><p><strong>Esiintyjät:<br></strong></p><br /><p><strong>Pe 16.6.2023</strong><br><br />Beast In Black, Dead By April, Bloodred Hourglass, Diablo, Ensiferum</p><br /><p><strong>La 17.6.2023</strong><br><br />Battle Beast, Mokoma – Kurimus 20 vuotta, Before The Dawn, Swallow The Sun, Wolfheart, Brymir</p><br /><p>Lisää bändejä julkaistaan myöhemmin.</p><br /><p><strong>Portit auki:</strong><br>Pe klo 14:30<br>La klo 13:00</p><br /><p>Portit kiinni molempina päivinä klo 01:00</p><br /><br /><p>2 päivän liput vaihdetaan rannekkeisiin. Yhden päivän peruslipuilla kerran sisään.</p><br /><p>PLUS-lippu sisältää: oma baariteltta, omat vessat, riittävästi istumapaikkoja, pientä suolaista naposteltavaa</p><br /><p><strong>Tasa-arvo:</strong></p><br /><p>Tuhdimmilla Tahdeilla ei saa syrjiä eikä häiritä ketään esimerkiksi <br />sukupuolen, sukupuolisen suuntautumisen, etnisen taustan tai ihonvärin <br />perusteella. Jokainen on tervetullut omana itsenään ja kunnioitetaan <br />toinen toistamme. Jos sinua tai läheistäsi kohdellaan kaltoin, kerro <br />siitä heti lähimmälle järjestyksenvalvojalle.</p> <br /><br />  Visit event in our website: <a href='https://tapahtumainfo.fi/tapahtuma/2023/06/tuhdimmat-tahdit-2023/307190'>Tapahtumainfo.fi</a></body></html>
END:VEVENT
END:VCALENDAR
