BEGIN:VCALENDAR
VERSION:2.0
PRODID:-//tapahtumainfo.fi//NONSGML Hanaa Festival - Kaksi päivää 14-15.7.2023//EN
METHOD:REQUEST
BEGIN:VEVENT
UID:20260422T193657-1947074314-tapahtumainfo.fi
DTSTAMP:20260422T193657
DTSTART:20230714T170000Z
DTEND:20230714T020000Z
LOCATION:Riihimäen tori
SUMMARY:Hanaa Festival - Kaksi päivää 14-15.7.2023
DESCRIPTION:<html><head></head><body>Kolmatta kertaa järjestettävät Hanaa Festarit saapuvat Riihimäelle 14.-15.7.2023! Tapahtuma järjestetään tuttuun tapaan Riihimäen torilla osoitteessa Torikuja 6, 11100 Riihimäki. Festareilla huikea kattaus suomalaisen Rap-musiikin esiintyjiä.<br /><br />Perjantaina esiintyy OG Ulla-Maija, Paatti X Pavel, Kalle Kinos, Lyttä & Tohtori Getto ja DJ Loasteeze. <br /><br />Lauantain esiintyjät ovat Vitun Iso Rotsi, Ahti, Asa, Hitaat lasit, Varomato, Dädi-J & P3RA!<br /><br /><br />2 päivän lippu 39,90€<br /><br />Alueella on anniskelu, ruokamahdollisuus sekä saniteettitilat.<br />Tapahtuma on K-18. Ovet aukeaa perjantaina klo 17 ja lauantaina klo 13.<br /><br />Liikuntarajoitteisilla esteetön pääsy ja kulkeminen festarialueella. <br /><br />  Visit event in our website: <a href='https://tapahtumainfo.fi/tapahtuma/2023/07/hanaa-festival-kaksi-paivaa-14-15-7-2023/313171'>Tapahtumainfo.fi</a></body></html>
END:VEVENT
END:VCALENDAR
