BEGIN:VCALENDAR
VERSION:2.0
PRODID:-//tapahtumainfo.fi//NONSGML Hanaa Festival - Perjantai 14.7.2023//EN
METHOD:REQUEST
BEGIN:VEVENT
UID:20260422T193657-2098086371-tapahtumainfo.fi
DTSTAMP:20260422T193657
DTSTART:20230714T170000Z
DTEND:20230714T020000Z
LOCATION:Riihimäen tori
SUMMARY:Hanaa Festival - Perjantai 14.7.2023
DESCRIPTION:<html><head></head><body>Kolmatta kertaa järjestettävät Hanaa Festarit saapuvat Riihimäelle 14.-15.7.2023! Tapahtuma järjestetään tuttuun tapaan Riihimäen torilla osoitteessa Torikuja 6, 11100 Riihimäki. Festareilla huikea kattaus suomalaisen Rap-musiikin esiintyjiä.<br /><br />Perjantaina esiintyy OG Ulla-Maija, Paatti X Pavel, Kalle Kinos, Lyttä & Tohtori Getto ja DJ Loasteeze. <br /><br />1 päivän lippu (perjantai)  19,90€<br /><br />Alueella on anniskelu, ruokamahdollisuus sekä saniteettitilat.<br />Tapahtuma on K-18. Ovet aukeaa perjantaina klo 17.<br /><br />Liikuntarajoitteisilla esteetön pääsy ja kulkeminen festarialueella. <br /><br />  Visit event in our website: <a href='https://tapahtumainfo.fi/tapahtuma/2023/07/hanaa-festival-perjantai-14-7-2023/313173'>Tapahtumainfo.fi</a></body></html>
END:VEVENT
END:VCALENDAR
