BEGIN:VCALENDAR
VERSION:2.0
PRODID:-//tapahtumainfo.fi//NONSGML Takaisin elämään -keskusteluryhmä//EN
METHOD:REQUEST
BEGIN:VEVENT
UID:20260423T131143-718313596-tapahtumainfo.fi
DTSTAMP:20260423T131143
DTSTART:20231030T170000Z
DTEND:20231030T183000Z
LOCATION:Meri-Karinan hyvinvointikeskus
SUMMARY:Takaisin elämään -keskusteluryhmä
DESCRIPTION:<html><head></head><body><p><strong>Paluu arkeen syöpähoitojen päätyttyä ei välttämättä ole <br />yksinkertaista – työpaikalla on tapahtunut muutoksia, parisuhde voi olla<br /> koetuksella, lasten tai iäkkäiden vanhempien kanssa on haasteita. Tule <br />jakamaan kokemuksia henkisestä ja fyysisestä toipumisesta muiden saman <br />kokeneiden kanssa.</strong></p><br /><p>Vertaisryhmä on tarkoitettu työikäisille henkilöille, joiden <br />syöpähoidot ovat päättyneet enintään puoli vuotta sitten. Ryhmää <br />ohjaavat vaativan erityistason psykoterapeutti Florence Schmitt ja <br />ratkaisukeskeinen lyhytterapeutti Minna Vuola. Kaikki ryhmässä käydyt <br />keskustelut ovat luottamuksellisia.</p><br /><p>Ryhmä kokoontuu Meri-Karinan hyvinvointikeskuksessa maanantaina 4.9., 18.9., 2.10., 16.10. ja 30.10.2023 kello 17.00–18.30.</p><br /><p><strong>Ilmoittaudu</strong> vastaavalle hoitajalle (yhteystiedot alempana). Ryhmään otetaan 8–10 osallistujaa.</p><br /><p>Osallistuminen on maksutonta. <br></p><br /><p><strong>Lisätiedot ja ilmoittautuminen</strong><br><br />Vastaava hoitaja Teija Kemppainen<br><br />02 2657 609, teija.kemppainen@lssy.fi</p> <br /><br />  Visit event in our website: <a href='https://tapahtumainfo.fi/tapahtuma/2023/09/takaisin-elamaan-keskusteluryhma/318826'>Tapahtumainfo.fi</a></body></html>
END:VEVENT
END:VCALENDAR
