BEGIN:VCALENDAR
VERSION:2.0
PRODID:-//tapahtumainfo.fi//NONSGML Kotimuseo//EN
METHOD:REQUEST
BEGIN:VEVENT
UID:20260425T214241-1548512406-tapahtumainfo.fi
DTSTAMP:20260425T214241
DTSTART:20060101T020000Z
DTEND:20301201T020000Z
LOCATION:Liedon Vanhalinna
SUMMARY:Kotimuseo
DESCRIPTION:<html><head></head><body>Mauno ja Ester Wanhalinnan perinnettÃ¤ vaalii kartanokotimuseo, jonka aarteita ovat Turun yliopiston, Phoenixin kalusteet. EsillÃ¤ on pÃ¤Ã¤asiassa sotien jÃ¤lkeisen ajan huonekaluja ja esineistÃ¶Ã¤. <br><br>Kartanorakennus on valmistunut vuonna 1930 ja se oli ajalleen hyvin moderni maaseudun rakennus, sillÃ¤ taloon on tullut sÃ¤hkÃ¶ ja juokseva vesi heti rakennuksen valmistuttua. LisÃ¤ksi talossa on ollut alusta saakka vesikiertoinen keskuslÃ¤mmitys, joka maaseudulla tuohon aikaan oli aivan uusinta uutta.<br><br>NÃ¤yttely rakentuu kartanorakennuksen alakerran huoneista, jossa nÃ¤htÃ¤villÃ¤ on sali, ruokasali, mamsellin kamari, Kultarantahuone, isÃ¤nnÃ¤n huone ja keittiÃ¶. Jokainen huone kertoo oman osansa Vanhalinnan tilan ja kartanon historiasta sekÃ¤ sen omistajista. <br /><br />  Visit event in our website: <a href='https://tapahtumainfo.fi/tapahtuma/2006/01/kotimuseo/320584'>Tapahtumainfo.fi</a></body></html>
END:VEVENT
END:VCALENDAR
