BEGIN:VCALENDAR
VERSION:2.0
PRODID:-//tapahtumainfo.fi//NONSGML &quot;Rovaniemi, ei kylä - eikä kaupunki&quot;//EN
METHOD:REQUEST
BEGIN:VEVENT
UID:20260420T170110-102729380-tapahtumainfo.fi
DTSTAMP:20260420T170110
DTSTART:20230518T020000Z
DTEND:20301231T020000Z
LOCATION:Rovaniemen kotiseutumuseo
SUMMARY:&quot;Rovaniemi, ei kylä - eikä kaupunki&quot;
DESCRIPTION:<html><head></head><body>Rovaniemen paikallishistoriasta kertova valokuvanäyttely &quot;Rovaniemi - ei kylä eikä kaupunki&quot; on saanut otsikkonsa Ilmari Kiannon kirjoituksesta. Valokuvat ovat pääosin 1910- ja 1920-luvuilta.<br> <br>Historialliset valokuvat ovat materialisoituneita menneisyyden palasia, jotka kertovat omasta ajastaan, kun ne asettaa paikalleen osaksi historiallista prosessia. Pääosin näyttelyn valokuvat on ottanut Iikka Paavalniemi (1875&ndash;1950), joka toimi sairaalan talonmiehenä, eräänlaisena käytännön hoidon isännöitsijänä ja vahtimestarina. Harrastajakyläkuvaajana hän kuvasi laajasti Rovaniemeä 1910&ndash;1920-luvuilla. Hän esiintyi monesti humoristisesti itse valokuvissaan. Myöhemmin Paavalniemi päätyi valokuvaajan ammatin harjoittajaksi Nurmekseen.<br> <br>Myös toisen merkittävän rovaniemeläisen valokuvaajan, Hildur Larssonin (1882&ndash;1952) valokuvia on näyttelyssä. Hän toimi Rovaniemellä ammattimaisena valokuvaajana noin 10 vuoden ajan vuodesta 1905 lähtien kuvaten pääasiassa henkilökuvia ateljeessaan sekä merkittäviä tapahtumia.<br> <br>Valokuvanäyttelyn kuviin voi tarkemmin perehtyä QR-koodin kautta. <br>Niissä esitellään kuvatekstejä laajemmin valokuvien sisältöjä sekä yhteyttä ajankohtaan. Näyttelyn ovat koostaneet TaT, tutkija, valokuvaaja Mervi Löfgren Autti, valokuvaaja Jukka Suvilehto ja historian ja suomen kielen opettaja (emerita) Sirkka Veikkolainen. <br><br> <br /><br />  Visit event in our website: <a href='https://tapahtumainfo.fi/tapahtuma/2023/05/rovaniemi-ei-kyla-eika-kaupunki/320585'>Tapahtumainfo.fi</a></body></html>
END:VEVENT
END:VCALENDAR
