BEGIN:VCALENDAR
VERSION:2.0
PRODID:-//tapahtumainfo.fi//NONSGML Aikakausia ja aikalaisia//EN
METHOD:REQUEST
BEGIN:VEVENT
UID:20260422T223223-1423103391-tapahtumainfo.fi
DTSTAMP:20260422T223223
DTSTART:20210913T020000Z
DTEND:20501231T020000Z
LOCATION:Haminan kaupunginmuseo
SUMMARY:Aikakausia ja aikalaisia
DESCRIPTION:<html><head></head><body>Kaupunginmuseon uusittu perusnÃ¤yttely esittelee kattavasti kaupungin kehitysvaiheita varhaisimmasta asutuksesta aina 1900-luvulle asti. Museossa on nÃ¤htÃ¤villÃ¤ kiehtovaa esineistÃ¶Ã¤ elÃ¤vÃ¶ittÃ¤mÃ¤ssÃ¤ kirjoitettua faktaa esimerkiksi merenkulusta ja kaupungin kouluista. NÃ¤yttelyssÃ¤ esitellÃ¤Ã¤n myÃ¶s kansainvÃ¤lisestikin kuuluisia haminalaislÃ¤htÃ¶isiÃ¤ henkilÃ¶itÃ¤, joiden kautta aikakaudet herÃ¤Ã¤vÃ¤t eloon. <br><br>Vuonna 2023 tulee kuluneeksi 240 vuotta siitÃ¤, kun VenÃ¤jÃ¤n keisarinna Katariina II ja Ruotsin kuningas Kustaa III tapasivat nykyÃ¤Ã¤n kaupunginmuseona toimivassa rakennuksessa. Juhlavuoden kunniaksi neuvotteluhuonetta kuvaava tila on uudistettu tÃ¤ysin. Tule tunnelmoimaan aikakautista musiikkia ja kokeilemaan kuninkaallisia asuja! <br /><br />  Visit event in our website: <a href='https://tapahtumainfo.fi/tapahtuma/2021/09/aikakausia-ja-aikalaisia/320602'>Tapahtumainfo.fi</a></body></html>
END:VEVENT
END:VCALENDAR
