BEGIN:VCALENDAR
VERSION:2.0
PRODID:-//tapahtumainfo.fi//NONSGML Jalkapalloa ja kunnian kenttiä -näyttelyopastukset//EN
METHOD:REQUEST
BEGIN:VEVENT
UID:20260421T135629-210015338-tapahtumainfo.fi
DTSTAMP:20260421T135629
DTSTART:20230916T020000Z
DTEND:20500916T020000Z
LOCATION:Kuopion korttelimuseo
SUMMARY:Jalkapalloa ja kunnian kenttiä -näyttelyopastukset
DESCRIPTION:<html><head></head><body>Jalkapalloa ja kunnian kenttiä -näyttelyopastuksella pääset tutustumaan pohjoissavolaisen jalkapalloilun historiaan. Näyttelyssä syvennytään pelivälineiden kehitykseen varhaisista jalkapalloista ja nappulakengistä lähtien. Esillä on 11 savolaista pelikenttää, joilla on jokaisella oma mielenkiintoinen historiansa. Näyttelyssä seurataan tänä vuonna 100-vuotta täyttävän Kuopion Palloseuran kehitystä takaisin suomalaisen jalkapalloilun terävimpään kärkeen. Nähtävillä on esineistöä sekä maakunnan jalkapalloseuroilta että entisiltä ja nykyisiltä pelaajilta.<br><br>Opastus sisältyy pääsymaksun hintaan (8 / 5 , Museokortti, alle 18-vuotiaat maksutta). Kesto noin 30&ndash;45 minuuttia.<br><br>Näyttely perustuu vuonna 2020 ilmestyneeseen teokseen Kunnian kentät &ndash; kirja savolaisista jalkapallopyhätöistä.<br><br>Opastukset kesällä:<br>La 27.5.2023 klo 13<br>La 17.6.2023 klo 13<br>La 1.7.2023 klo 13<br>La 22.7.2023 klo 13<br>La 5.8.2023 klo 13<br>La 19.8.2023 klo 13<br> <br /><br />  Visit event in our website: <a href='https://tapahtumainfo.fi/tapahtuma/2023/09/jalkapalloa-ja-kunnian-kenttia-nayttelyopastukset/320604'>Tapahtumainfo.fi</a></body></html>
END:VEVENT
END:VCALENDAR
