BEGIN:VCALENDAR
VERSION:2.0
PRODID:-//tapahtumainfo.fi//NONSGML Koljonvirta-historiapolku//EN
METHOD:REQUEST
BEGIN:VEVENT
UID:20260421T220018-496929843-tapahtumainfo.fi
DTSTAMP:20260421T220018
DTSTART:20210419T020000Z
DTEND:20501231T020000Z
LOCATION:Juhani Ahon museo
SUMMARY:Koljonvirta-historiapolku
DESCRIPTION:<html><head></head><body>Museon pihapiiristÃ¤ lÃ¤htee noin kilometrin mittainen historiapolku, jolla pÃ¤Ã¤set ulkoilun ohella tutustumaan Koljonvirran taisteluasemiin. Rauhaisissa metsikÃ¶issÃ¤ kulkevalla polulla nÃ¤kyvÃ¤t menneen jÃ¤Ã¤nteet. TykistÃ¶asemat, sotakorsut ja maisemat vesistÃ¶jen taakse kuiskivat raivokkaista taisteluista, sotilaiden arjesta ja toiveista. Polun varrella olevat opastaulut kertovat Koljonvirran taistelun etenemisestÃ¤, asemista ja aseistuksesta, kuolemasta sekÃ¤ jÃ¤lkivaikutuksista. Puolen kilometrin mittainen lisÃ¤lenkki kertoo sotilaiden elÃ¤mÃ¤stÃ¤ 1700-1800-lukujen vaihteessa ja erÃ¤Ã¤stÃ¤ taistelun tuhoisasta vaiheesta, jota on kutsuttu Iisalmen veriyÃ¶ksi.<br><br>Puhelimeen ladattavalla AR-sovelluksella opastauluissa olevat kuvat herÃ¤Ã¤vÃ¤t eloon nÃ¤yttÃ¤en videopÃ¤tkiÃ¤ taisteluista ja sotilaiden ajanvietosta ja tuntemuksista. Ohjeet sovelluksen lataamiseen lÃ¶ytyvÃ¤t polun alusta, museon parkkialueen luota.  <br><br>VINKKI: Mansikkaniemen pÃ¤Ã¤dyssÃ¤ luontopolun varrella voit istahtaa syÃ¶mÃ¤Ã¤n evÃ¤itÃ¤ nuotion Ã¤Ã¤rellÃ¤ kauniissa jÃ¤rvimaisemissa. <br /><br />  Visit event in our website: <a href='https://tapahtumainfo.fi/tapahtuma/2021/04/koljonvirta-historiapolku/320646'>Tapahtumainfo.fi</a></body></html>
END:VEVENT
END:VCALENDAR
