BEGIN:VCALENDAR
VERSION:2.0
PRODID:-//tapahtumainfo.fi//NONSGML Inarin Saamelaismuseosta Saamelaismuseo Siidaksi//EN
METHOD:REQUEST
BEGIN:VEVENT
UID:20260420T125913-358986594-tapahtumainfo.fi
DTSTAMP:20260420T125913
DTSTART:20230607T020000Z
DTEND:20500101T020000Z
LOCATION:Saamelaismuseo Siida
SUMMARY:Inarin Saamelaismuseosta Saamelaismuseo Siidaksi
DESCRIPTION:<html><head></head><body>Museo ehti toimia nelisenkymmentä vuotta kesäisin avoinna olevana ulkomuseona, kunnes Saamelaismuseo ja Ylä-Lapin luontokeskus Siida avautui yleisölle 1998. Saamelaismuseo Siidan ulkomuseon kesäkausi polkaistaan käyntiin juhlavasti keskiviikkona 7.6.<br><br>Tapahtumapäivä 7.6.2023 ohjelma<br><br>Klo 10 Mirhamintuvan kunnostukset / Marko Korkeasalo, restaurointimestari<br><br>Klo 11 Saamelaiseen kulttuuriin liittyvät veneet ja niiden erityispiirteet / Mika Alava, venemestari<br><br>Klo 12 Ulkomuseon opastus, suomenkielinen<br><br> Klo 13 Mirhamintuvan kunnostukset / Marko Korkeasalo, restaurointimestari<br><br>Klo 14 Saamelaiseen kulttuuriin liittyvät veneet ja niiden erityispiirteet / Mika Alava, venemestari<br><br>Klo 15 Ulkomuseon opastus, suomenkielinen<br><br>Saamelaisen kulttuuriympäristöyksikön asiantuntijat tutkija/rakennuskonservaattori Satu Taivaskallio ja arkeologi Juha-Pekka Joona jututettavissa.<br><br>Kahvistelu yhteisöllisessä laavussa<br><br>Tapahtumaan on vapaa sisäänpääsy ja ohjelma on kaikille avoin<br> <br>Tervetuloa / Tiervâpuâttim / Bures boahtin / Tiõrv puáttem<br><br>Lisätiedot tapahtumasta: Yleisötyövastaava Pia Nikula, 040 621 2663, pia.nikula(at)samimuseum.fi <br> <br>  <br> <br /><br />  Visit event in our website: <a href='https://tapahtumainfo.fi/tapahtuma/2023/06/inarin-saamelaismuseosta-saamelaismuseo-siidaksi/320703'>Tapahtumainfo.fi</a></body></html>
END:VEVENT
END:VCALENDAR
