BEGIN:VCALENDAR
VERSION:2.0
PRODID:-//tapahtumainfo.fi//NONSGML Kadonnut Rovaniemi//EN
METHOD:REQUEST
BEGIN:VEVENT
UID:20260425T213550-1284603881-tapahtumainfo.fi
DTSTAMP:20260425T213550
DTSTART:20220622T020000Z
DTEND:20501231T020000Z
LOCATION:Lapin maakuntamuseo
SUMMARY:Kadonnut Rovaniemi
DESCRIPTION:<html><head></head><body>Rovaniemen keskustan alueella kÃ¤vellessÃ¤si saatat kesÃ¤n 2022 kuluessa huomata sÃ¤hkÃ¶kaappeja, joista lÃ¶ydÃ¤t kaupunkimme historiaan liittyviÃ¤ vanhoja valokuvia menneiltÃ¤ vuosikymmeniltÃ¤. Kuvat ovat poimintoja Lapin maakuntamuseon kuva-arkistosta ja ne ovat kurkistuksia siihen Rovaniemeen, joka on jo kadonnut, mutta kenties elÃ¤Ã¤ muistoissamme ja ainakin vanhoissa kuvissa. <br><br>Valokuvia lÃ¶ytyy yhteensÃ¤ 23 sÃ¤hkÃ¶kaapista ja niissÃ¤ on nÃ¤htÃ¤villÃ¤ suurin piirtein se alue, jossa kukin kaappi sijaitsee. Valokuvista avautuukin nÃ¤kymiÃ¤ eri vuosikymmenten Rovaniemeen, vanhimpien kuvien ollessa sadan vuoden takaa. <br><br>***<br><br>NÃ¤yttelyn kuvat ovat seuraavilta kuvaajilta: Aatto Aho, Paavo Alanne, Lauri AlanÃ¤rÃ¤, Emil Halonen, Raija Heimo, Pauli Laalo, Hildur Larsson, Reima Mukkala, Iikka Paavalniemi, Hellin Ruokanen, Arvo Ruonaniemi, Jukka Suvilehto ja Aimo A. Tuomi. Osassa kuvista kuvaaja on tuntematon. Kuvat ovat Lapin maakuntamuseon ja Kotiseutuyhdistys Rovaniemen Totto ry:n kokoelmista.<br><br>Kadonnut Rovaniemi -ulkovalokuvanÃ¤yttely on osa 9.-11. syyskuuta 2022 vietettÃ¤vien Valtakunnallisten kotiseutupÃ¤ivien ohjelmaa. <br><br>***<br><br>NÃ¤yttelyn kartan voit ladata ja tulostaa (suositeltava koko A3) museon nettisivuilta: <br>https://www.rovaniemi.fi/Vapaa-aika/Kulttuuriyksikot-ja-museot/Lapin-maakuntamuseo/Julkaisut <br><br>***<br>Kuvien tiedot: <br>1. Rovaniemen âsatamaâ Lainaanrannassa eli FÃ¤rirannassa. Taustalla Ounasvaara. Kuva: Emil Halonen, 1926. <br><br>2. NÃ¤kymÃ¤ Kemijoen yli ennen veden nostoa. Vastarannalla nÃ¤kyy Valio, entinen sÃ¤hkÃ¶laitos ja JÃ¤Ã¤merentien varren asutusta. Kuva: Lauri AlanÃ¤rÃ¤, 1960.<br><br>3. Maantiekadun (myÃ¶hemmin Valtakatu) elÃ¤mÃ¤Ã¤. Vasemmalla Saastamoisen kauppa, oikealla PÃ¶ykÃ¶n kauppa. Kuva: Iikka Paavalniemi, 1916â1922.<br><br>4. NÃ¤kymÃ¤ FÃ¤rinrantaan (myÃ¶hemmin Lainaanranta). Kuva: A. M. L. 1931.<br><br>5. Toripuistikko. Kuva: Paavo Alanne, 1973.<br><br>6. Vanha linja-autoasema vanhalla torilla. Kuva: Lauri AlanÃ¤rÃ¤, 1952.<br><br>7. JÃ¤tkÃ¤-patsas JÃ¤tkÃ¤npuistossa, taustalla Kemijoen toisella puolella nÃ¤kyy Valion meijeri ja Ounasvaaraa. Kuva: Lauri AlanÃ¤rÃ¤, 1960-luku.<br><br>8. Kemijoen ylittÃ¤vÃ¤ vÃ¤liaikainen silta, n. 1946-1951. KyltissÃ¤ lukee âJalankulkijat vÃ¤lttÃ¤kÃ¤Ã¤ ryhmissÃ¤ kulkemista sillalla. Sillalla oleskelu kielletty.â Kuva: Tuntematon. Totto ry. <br><br>9. Koskikadun nÃ¤kymÃ¤Ã¤, taustalla Karjapohjola. Kuva: Aimo A. Tuomi, 1958.<br><br>10. Rovaniemen Kauppa OsakeyhtiÃ¶ Valtakadulla (entinen Maantiekatu). Kuva: Aatto Aho, 1938.<br><br>11. Hotelli Pohjanhovi n. 1939â1944. Kuva: Tuntematon.<br><br>12. Valtakadun ja Koskikadun risteys 1938â1944. Kuva: Tuntematon.<br><br>13. Tukkilaiskisat Kemijoella juhannuksena 1960. Kuva: Arvo âTieraâ Ruonaniemi.<br><br>14. Riitan Divari vuonna 1984. Aiemmin samalla paikalla (Maakuntakatu 27) toimi Jokelan lehtikioski 1950- ja 1960-luvuilla. Kuva: Raija Heimo.<br><br>15. Palokunnantalo Maantiekadun (myÃ¶h. Valtakatu) varrella. Kuva: Tuntematon, 1929.<br><br>16. Abiturientit ajelulla penkinpainajaispÃ¤ivÃ¤nÃ¤ vuonna 1965, Ruokasenkatu 16. Kuva: Pauli Laalo.<br><br>17. Vesijohtoliike Huberin liiketilat, Ruokasenkatu 8. Kuva: Arvo âTieraâ Ruonaniemi, 1960â1970-luku.<br><br>18. KesÃ¤inen pÃ¤ivÃ¤ Tapaninpuistossa. Taustalla Valtakadun ja Aallonkadun rakennuksia. Kuva: Lauri AlanÃ¤rÃ¤, 20.6.1952.<br><br>19. Konttisen kartano eli puutavaraosakeyhtiÃ¶ Kemi Oy:n (Kemi-yhtiÃ¶) rakennukset. Kuva: Tuntematon 1907â1909.<br><br>20. Rovaniemen kirkko seurakunnan 300-vuotisjuhlien aikaan heinÃ¤kuussa 1932. TÃ¤mÃ¤ vuonna 1817 valmistunut puinen ristikirkko tuhoutui Lapin sodassa 1944. Kuva: Hellin Ruokanen.<br><br>21. Rovaniemen kirkko ja Ounaskosken silta, edessÃ¤ âsokeripalatalonaâ tunnettu talo Koskenrannassa. Kuva: Lauri AlanÃ¤rÃ¤, 1950-luvun loppu.<br><br>22. Tavarajuna ylittÃ¤mÃ¤ssÃ¤ Ounaskosken siltaa vuonna 1960. Kuva: Lauri AlanÃ¤rÃ¤.<br><br>23. Lapsia potkulautoineen Rovaniemen kauppalassa 1944. Kuva: Lyyli Autti.<br><br>Kuvat: Lapin maakuntamuseo,  <br>Paitsi kuva 8: Kotiseutuyhdistys Rovaniemen Totto ry.<br><br>YhteistyÃ¶ssÃ¤: Napapiirin Energia ja Vesi Oy<br>Kartan pohja: Karttapaikka, Maanmittauslaitos 05/2022<br><br>***<br><br>Tarrat asennettu kesÃ¤kuussa 2022 ja ne ovat paikoillaan toistaiseksi. <br /><br />  Visit event in our website: <a href='https://tapahtumainfo.fi/tapahtuma/2022/06/kadonnut-rovaniemi/320711'>Tapahtumainfo.fi</a></body></html>
END:VEVENT
END:VCALENDAR
