BEGIN:VCALENDAR
VERSION:2.0
PRODID:-//tapahtumainfo.fi//NONSGML Katse kansallismaisemaan//EN
METHOD:REQUEST
BEGIN:VEVENT
UID:20260422T030435-1137005987-tapahtumainfo.fi
DTSTAMP:20260422T030435
DTSTART:20150601T020000Z
DTEND:20501231T020000Z
LOCATION:Kolin luontokeskus Ukko
SUMMARY:Katse kansallismaisemaan
DESCRIPTION:<html><head></head><body>NÃ¤yttelyssÃ¤ pÃ¤Ã¤set tutustumaan esimerkiksi kaskikulttuuriin perinteisiin, Kolin matkailun historiaan ja Kolin geologisiin vaiheisiin. YmmÃ¤rrÃ¤t, miten Kolista tuli Koli. Elokuva Mustarinta on osa nÃ¤yttelyÃ¤ ja se esitetÃ¤Ã¤n tasatunnein. NÃ¤yttely on maksullinen. Luontokeskus Ukossa kÃ¤y museokortti. <br /><br />  Visit event in our website: <a href='https://tapahtumainfo.fi/tapahtuma/2015/06/katse-kansallismaisemaan/321624'>Tapahtumainfo.fi</a></body></html>
END:VEVENT
END:VCALENDAR
