BEGIN:VCALENDAR
VERSION:2.0
PRODID:-//tapahtumainfo.fi//NONSGML AALTO â työ ja elämä//EN
METHOD:REQUEST
BEGIN:VEVENT
UID:20260424T132831-308738050-tapahtumainfo.fi
DTSTAMP:20260424T132831
DTSTART:20230527T020000Z
DTEND:20500101T020000Z
LOCATION:Aalto2
SUMMARY:AALTO â työ ja elämä
DESCRIPTION:<html><head></head><body>Näyttely vie pintaa syvemmälle arkkitehdin työhön ja suunnitteluprosessiin, olipa kyseessä sitten yksittäinen rakennus, kaupunkikeskus, huonekalu tai aluesuunnitelma. <br><br>Näyttelyn punaisena lankana on Aallon optimistinen ajatus, jonka mukaan arkkitehtuurilla ja hyvällä suunnittelulla voidaan ratkaista ihmiselämän ja yhteiskunnan ongelmia, Aallon sanoin &rdquo;probleemeja&rdquo;. Alvar ja Aino Aallon merkitys suomalaisen muotoilun historiassa avautuu rinnakkain arkkitehtuurin kanssa. <br><br>Esillepanossa luotetaan aidon ja autenttisen voimaan &ndash; arkkitehtipiirustuksiin, pienoismalleihin ja muotoiluesineistöön. Näyttelyarkkitehtuurista vastaa arkkitehti Asmo Jaaksi (JKMM Arkkitehdit Oy) ja graafisesta ilmeestä Tiina Ekosaari. <br /><br />  Visit event in our website: <a href='https://tapahtumainfo.fi/tapahtuma/2023/05/aalto--tyo-ja-elama/324798'>Tapahtumainfo.fi</a></body></html>
END:VEVENT
END:VCALENDAR
