BEGIN:VCALENDAR
VERSION:2.0
PRODID:-//tapahtumainfo.fi//NONSGML Aarteita ja karttoja//EN
METHOD:REQUEST
BEGIN:VEVENT
UID:20260422T132438-543510934-tapahtumainfo.fi
DTSTAMP:20260422T132438
DTSTART:20210601T020000Z
DTEND:20301231T020000Z
LOCATION:Kurikan museo ja Kotiseututalo
SUMMARY:Aarteita ja karttoja
DESCRIPTION:<html><head></head><body>Tule tutustumaan vanhojen aarteiden ja karttojen kiehtovaan maailmaan! NÃ¤yttelyssÃ¤ pÃ¤Ã¤set nÃ¤kemÃ¤Ã¤n aitoja, metallinpaljastimella lÃ¶ydettyjÃ¤ vanhoja kolikoita ja erilaisia kÃ¤yttÃ¶esineitÃ¤. Vanhat esineet kertovat tarinaa kurikkalaisten elÃ¤mÃ¤stÃ¤ satoja vuosia sitten! LÃ¶ydÃ¶t on tehnyt paikallinen metallinpaljastinharrastaja Mikael SÃ¤ntti. <br><br>NÃ¤yttelystÃ¤ lÃ¶ytyy niin Kurikkaa, Pohjoismaita kuin koko maailmaakin kuvaavia karttoja jopa 1500-luvulta lÃ¤htien. NÃ¤yttelyssÃ¤ on esillÃ¤ muun muassa Olaus Magnuksen âCarta Marinaâ, Mikael Kaufferin âScandinaviaâ, Eric Wetterstedtin âPohjanmaaâ, Jakob Hoofin âKurikan kylÃ¤Ã¤â kuvaavat kartat sekÃ¤ monta muuta niin isoa kuin pientÃ¤kin karttaa. PÃ¤Ã¤set myÃ¶s tutustumaan kurikkalaisten talojen tarinoihin ja kartanteon historiaan! <br /><br />  Visit event in our website: <a href='https://tapahtumainfo.fi/tapahtuma/2021/06/aarteita-ja-karttoja/324801'>Tapahtumainfo.fi</a></body></html>
END:VEVENT
END:VCALENDAR
