BEGIN:VCALENDAR
VERSION:2.0
PRODID:-//tapahtumainfo.fi//NONSGML Ainolan opastuskaruselli - Lasten Ainola, perusopastus lapsille//EN
METHOD:REQUEST
BEGIN:VEVENT
UID:20260424T010405-179837861-tapahtumainfo.fi
DTSTAMP:20260424T010405
DTSTART:20230930T020000Z
DTEND:20500101T020000Z
LOCATION:Ainola
SUMMARY:Ainolan opastuskaruselli - Lasten Ainola, perusopastus lapsille
DESCRIPTION:<html><head></head><body>Museoliiton perustamispäivänä 30.9. vietetään<br>museoissa kävijöille suunnattua ainutlaatuista<br>juhlapäivää! Museot ympäri Suomen järjestävät tapahtumia, joissa pääsee eri tavoin tutustuman museotyöhön.<br><br>Ainolassa teemme sitä, minkä osaamme parhaiten. Museo on avoinna viimeistä päivää kesäkaudella 2023 ja me toivotamme kävijät tervetulleiksi Ainolan opastuskaruselliin &ndash; yleisöopastuksia tasatunnein alkaen kello 10.00 kello 16.00 saakka. Kahvilakonsertti kello 13.00, jolloin ei ole opastusta talossa.<br> <br>Opastuksille on vapaa pääsy ja niille mahtuu 25 henkilöä kerrallaan. Paikat täytetään saapumisjärjestyksessä. <br><br>Kahvila Aulis on avoinna 10.00&ndash;17.00. Viimeinen sisäänpääsy museoon kello 16.30.<br><br>Ainola on suljettu 1.10.2023-1.5.2024. Avaamme jälleen 2.5.2024. Opastusvarauksia kesäkaudelle 2024 otetaan vastaan osoitteessa info@ainola.fi <br> <br /><br />  Visit event in our website: <a href='https://tapahtumainfo.fi/tapahtuma/2023/09/ainolan-opastuskaruselli-lasten-ainola-perusopastus-lapsille/324818'>Tapahtumainfo.fi</a></body></html>
END:VEVENT
END:VCALENDAR
