BEGIN:VCALENDAR
VERSION:2.0
PRODID:-//tapahtumainfo.fi//NONSGML Fredagar på Sibbe: John Stowell &amp; Niklas Winter//EN
METHOD:REQUEST
BEGIN:VEVENT
UID:20260420T095341-2067000649-tapahtumainfo.fi
DTSTAMP:20260420T095341
DTSTART:20231124T020000Z
DTEND:20231124T020000Z
LOCATION:Sibelius-museo
SUMMARY:Fredagar på Sibbe: John Stowell &amp; Niklas Winter
DESCRIPTION:<html><head></head><body>John Stowelin pianomainen tapa soittaa kitaraa sekä hänen sofistikoitunut harmoninen lähestymistapansa improvisointiin luo pohjan hienolle musiikkielämykselle. Niklas Winterin ja Stowellin yhteistyö alkoi elokuussa 2023.<br><br>'John Stowell plays jazz, but he doesnt use any of the cliches; he has an incredible originality. John is a master creator. Larry Coryell<br><br>'He plays his amplified guitar as if he were surrounded by fine crystalthe type of slow burning, sustained energy that you hear in players that practise all the time. Downbeat<br><br>'Missä hyvänsä Niklas Winter soittaa, hänen herkästi kaipailevan kitaransa tunnistaa. Winter tuntuu etsivän käsitteiksi taipumatonta, jotain vielä ja ehkä pysyvästi näkymätöntä. Soundi on ollut samanlainen vuosia. Kari Salminen / Turun Sanomat (2.9.2022)<br><br>www.johnstowell.com<br><br>www.niklaswinter.com<br><br>Liput 25/15. Huom. Konserttilippuja ei voi ostaa Museokortilla. <br /><br />  Visit event in our website: <a href='https://tapahtumainfo.fi/tapahtuma/2023/11/fredagar-pa-sibbe-john-stowell-amp-niklas-winter/324892'>Tapahtumainfo.fi</a></body></html>
END:VEVENT
END:VCALENDAR
