BEGIN:VCALENDAR
VERSION:2.0
PRODID:-//tapahtumainfo.fi//NONSGML Ikäkuu: Opastettu kävelykierros julkisen taiteen äärelle//EN
METHOD:REQUEST
BEGIN:VEVENT
UID:20260425T133731-2031399749-tapahtumainfo.fi
DTSTAMP:20260425T133731
DTSTART:20231010T020000Z
DTEND:20500101T020000Z
LOCATION:Järvenpään taidemuseo
SUMMARY:Ikäkuu: Opastettu kävelykierros julkisen taiteen äärelle
DESCRIPTION:<html><head></head><body>Järvenpäästä löytyy taidetta osana kaupunkilaisten arkista ympäristöä, mm. kouluista, päiväkodeista, kirjastolta ja kaupungilta. Lähde oppaan kanssa tutustumaan taideteoksiin Järvenpään taidemuseon lähistölle. Reitin pituus on maksimissaan 1 km. Kierros kestää noin tunnin. Kierroksen aikana käydään myös Järvenpää-talolla ja kirjastolla. <br><br>Lähtö Järvenpään taidemuseolta ti 10.10. klo 14, Kirjastokatu 8. Liput 9/8/4  tai Museokortti/Kaikukortti. Kävelykierros on osa Ikäkuun ohjelmaa ja kaikille on avoin. <br /><br />  Visit event in our website: <a href='https://tapahtumainfo.fi/tapahtuma/2023/10/ikakuu-opastettu-kavelykierros-julkisen-taiteen-aarelle/324922'>Tapahtumainfo.fi</a></body></html>
END:VEVENT
END:VCALENDAR
