BEGIN:VCALENDAR
VERSION:2.0
PRODID:-//tapahtumainfo.fi//NONSGML Juuret - aarteita kokoelmista//EN
METHOD:REQUEST
BEGIN:VEVENT
UID:20260426T000315-2069269413-tapahtumainfo.fi
DTSTAMP:20260426T000315
DTSTART:20220429T020000Z
DTEND:20500101T020000Z
LOCATION:Lahden visuaalisten taiteiden museo Malva
SUMMARY:Juuret - aarteita kokoelmista
DESCRIPTION:<html><head></head><body>NÃ¤yttelyssÃ¤ kurkistetaan museon omiin kokoelmiin â museon omat esineet, julisteet ja taideteokset ovat juuret, joista Malvan kaikki toiminta kasvaa. <br><br>NÃ¤yttelyssÃ¤ pistÃ¤ydytÃ¤Ã¤n kuvitteellisilla huonekalumessuilla, joissa esitellÃ¤Ã¤n teollisen suunnittelun nÃ¤kÃ¶kulmia 1950â1970-luvuilla. Julisteiden avulla valotetaan Suomen ja Lahden historiaa. Viipurin taidemuseon kokoelmista Lahteen periytyneet yleisÃ¶n rakastamat taideaarteet avaavat nÃ¤kymiÃ¤ 1800-luvun ja 1900-luvun alkupuolen suomalaiseen ja ulkomaiseen maalaus- ja veistotaiteeseen. <br><br>NÃ¤yttelyn arkkitehti ja suunnittelija on palkittu lahtelainen muotoilija Tapio Anttila.<br> <br /><br />  Visit event in our website: <a href='https://tapahtumainfo.fi/tapahtuma/2022/04/juuret-aarteita-kokoelmista/324941'>Tapahtumainfo.fi</a></body></html>
END:VEVENT
END:VCALENDAR
