BEGIN:VCALENDAR
VERSION:2.0
PRODID:-//tapahtumainfo.fi//NONSGML K65 Taidetorstai: Resonance ja Sinistä puuta, mustaa rautaa//EN
METHOD:REQUEST
BEGIN:VEVENT
UID:20260425T180655-642747121-tapahtumainfo.fi
DTSTAMP:20260425T180655
DTSTART:20231005T020000Z
DTEND:20501005T020000Z
LOCATION:Seinäjoen taidehalli
SUMMARY:K65 Taidetorstai: Resonance ja Sinistä puuta, mustaa rautaa
DESCRIPTION:<html><head></head><body>Oppaana toimivat Taidehallin henkilökunta, näyttelyn taiteilijat, kuraattorit tai muut näyttelyä tuntevat henkilöt. Kierros kestää puolesta tunnista tuntiin, ja siihen voi hyvin yhdistää Äärellä-ravintolan lounaan ennen kierrosta tai vaikka iltapäiväkahvit sen jälkeen. Opastettu kierros sisältyy pääsylipun hintaan (eläkeläiset 4 ). Ei ilmoittautumista.<br><br>K65 Taidetorstai 5.10. klo 13 tutustuu kahteen esillä olevaan nykytaidenäyttelyyn. Hallissa nähdään kansainävälinen ryhmänäyttely Resonance. Näyttelyn taiteilijat ovat Olga Bergmann (IS), Angela Dufresne (US), Anna Hallin (IS), Vesa-Pekka Rannikko (FI) ja Simon Rouby (FR). Vintillä tutustutaan Sigrid Holmwoodin Sinistä puuta, mustaa rautaa -näyttelyyn.<br><br>Opastettu kierros alkaa Kalevan Navetan aulasta. Osa Armas-festivaalin ohjelmaa.<br><br>K65 Taidetorstai sisältyy K65-toimintaan, jota koordinoidaan yhdessä Seinäjoen kaupungin kulttuuripalveluiden ikääntyneiden kulttuuritoiminnan kanssa. K65 Taidetorstai järjestetään elokuusta marraskuuhun kerran kuukaudessa torstai-iltapäivisin. <br /><br />  Visit event in our website: <a href='https://tapahtumainfo.fi/tapahtuma/2023/10/k65-taidetorstai-resonance-ja-sinista-puuta-mustaa-rautaa/324944'>Tapahtumainfo.fi</a></body></html>
END:VEVENT
END:VCALENDAR
