BEGIN:VCALENDAR
VERSION:2.0
PRODID:-//tapahtumainfo.fi//NONSGML Kappalaispappilan tarinoita//EN
METHOD:REQUEST
BEGIN:VEVENT
UID:20260425T214359-288010503-tapahtumainfo.fi
DTSTAMP:20260425T214359
DTSTART:20210419T020000Z
DTEND:20501231T020000Z
LOCATION:Juhani Ahon museo
SUMMARY:Kappalaispappilan tarinoita
DESCRIPTION:<html><head></head><body>Kirjailija Juhani Aho (1861-1921) asui MansikkaniemellÃ¤ vuosina 1865-1876. HÃ¤net tunnetaan realistisesta tyylisuunnastaan, kÃ¤rkevistÃ¤ kannanotoistaan lehtimiehenÃ¤ ja lyhyistÃ¤ âlastuiksiâ nimetyistÃ¤ kertomuksista. Aho oli myÃ¶s innokas perhokalastaja ja pyÃ¶rÃ¤ilijÃ¤ aikana, jolloin nuo lajit vasta tekivÃ¤t tuloaan Suomeen. Ahon isÃ¤ Theodor Brofeldt, joka tunnettiin Iisalmessa "Ukko BrofeldtinÃ¤", toimi Iisalmen seurakunnan pappina 55 vuotta. Museon pÃ¤Ã¤nÃ¤yttely kietoutuu nÃ¤iden kahden kiehtovan henkilÃ¶n ympÃ¤rille.<br><br>PÃ¤Ã¤rakennuksen nÃ¤yttelyssÃ¤ on esillÃ¤ Juhani Ahon elÃ¤mÃ¤stÃ¤, perheestÃ¤ ja aikakaudesta kertovaa esineistÃ¶Ã¤. Kirjailijan luonnetta valaisevat hÃ¤nen kÃ¤yttÃ¤mÃ¤nsÃ¤ upeat kirjoitusvÃ¤lineet, kÃ¤sintehdyt perhokalastustarvikkeet ja kummastuttava polkupyÃ¶rÃ¤lupakirja. Ukko Brofeldtin elÃ¤mÃ¤Ã¤ heijastelevat Iisalmen ison pappilan uusrenessanssiset kalustot, komeat piiput ja hÃ¤nen itsensÃ¤ valmistamat keinutuolit.  NÃ¤yttelyssÃ¤ pÃ¤Ã¤set kurkkaamaan Juhanin tyÃ¶huoneeseen, ihastelemaan pappilan salonkia ja istahtamaan 1800-luvun lopun keittiÃ¶Ã¶n katselemaan keittiÃ¶vÃ¤lineiden kirjoa. Anna vanhojen esineiden kiehtovine tarinoineen viedÃ¤ sinut hetkeksi matkalle menneisyyteen, aikaan, jolloin Ã¶ljylamput saapuivat pirtteihin...<br><br>VINKKI: Kysy esineistÃ¤ rohkeasti oppailtamme. Tavanomaiselta nÃ¤yttÃ¤vÃ¤ tupakkalaatikko piippuhyllyllÃ¤ saattaa paljastua vuosisatoja suvussa periytyneeksi museon vanhimmaksi esineeksi! PÃ¤Ã¤nÃ¤yttelyyn on tarjolla opastuksia niin yksittÃ¤iselle kÃ¤vijÃ¤lle kuin ryhmillekin! <br /><br />  Visit event in our website: <a href='https://tapahtumainfo.fi/tapahtuma/2021/04/kappalaispappilan-tarinoita/324957'>Tapahtumainfo.fi</a></body></html>
END:VEVENT
END:VCALENDAR
