BEGIN:VCALENDAR
VERSION:2.0
PRODID:-//tapahtumainfo.fi//NONSGML Ainola on suljettu talveksi//EN
METHOD:REQUEST
BEGIN:VEVENT
UID:20260424T054352-460417456-tapahtumainfo.fi
DTSTAMP:20260424T054352
DTSTART:20251001T020000Z
DTEND:20260501T020000Z
LOCATION:Ainola
SUMMARY:Ainola on suljettu talveksi
DESCRIPTION:<html><head></head><body>Ainola on suljettu talveksi. Talvikaudella museota huolletaan ja alueella tehdÃ¤Ã¤n korjauksia. Emme vastaanota vierailijoita talvikaudella lokakuusta huhtikuun loppuun.<br><br>Avaamme jÃ¤lleen lauantaina 2.5.2026 ja olemme avoinna tiistaista sunnuntaihin kello 10.00-17.00 keskiviikkoon 30.9.2026 saakka. <br><br>Otamme vastaan vierailuvarauksia kesÃ¤kaudelle 2026 osoitteessa info@ainola.fi. EtukÃ¤teen varattaessa opastus kuuluu pÃ¤Ã¤sylippujen hintaan.<br><br>Tervetuloa Ainolaan taas ensi kevÃ¤Ã¤nÃ¤! <br /><br />  Visit event in our website: <a href='https://tapahtumainfo.fi/tapahtuma/2025/10/ainola-on-suljettu-talveksi/324982'>Tapahtumainfo.fi</a></body></html>
END:VEVENT
END:VCALENDAR
