BEGIN:VCALENDAR
VERSION:2.0
PRODID:-//tapahtumainfo.fi//NONSGML Katriina Haikalan piirrustusperformanssi//EN
METHOD:REQUEST
BEGIN:VEVENT
UID:20260423T032435-1232427511-tapahtumainfo.fi
DTSTAMP:20260423T032435
DTSTART:20231007T020000Z
DTEND:20500101T020000Z
LOCATION:Kuntsin modernin taiteen museo
SUMMARY:Katriina Haikalan piirrustusperformanssi
DESCRIPTION:<html><head></head><body>Katriina Haikalan Social Portrait &ndash; Women Only -piirustusperformanssi nähdään Kuntsin modernin taiteen museossa neljänä lauantaina näyttelyn aikana. Taiteilija piirtää muotokuvia naisista, mutta kaikki ovat tervetulleita seuraamaan performanssia. Taiteilija piirtää muotokuvia naisista jokaisen itsemäärittely oikeutta kunnioittaen.<br><br>Ei ennakkoilmoittautumista. Tapahtumaan osallistuminen kuuluu museon pääsylipun hintaan.<br><br>Aikataulu<br><br>7.10.2023, klo 12&ndash;14 ja 15&ndash;17<br><br>10.2.2024, klo 12&ndash;14 ja 15&ndash;17<br><br>9.3.2024, klo 12&ndash;14 ja 15&ndash;17<br><br>6.4.2024, klo 12&ndash;14 ja 15&ndash;17 <br /><br />  Visit event in our website: <a href='https://tapahtumainfo.fi/tapahtuma/2023/10/katriina-haikalan-piirrustusperformanssi/324994'>Tapahtumainfo.fi</a></body></html>
END:VEVENT
END:VCALENDAR
