BEGIN:VCALENDAR
VERSION:2.0
PRODID:-//tapahtumainfo.fi//NONSGML Kuraattorinkierros//EN
METHOD:REQUEST
BEGIN:VEVENT
UID:20260425T225905-469065957-tapahtumainfo.fi
DTSTAMP:20260425T225905
DTSTART:20230618T020000Z
DTEND:20500101T020000Z
LOCATION:Pohjanmaan museo
SUMMARY:Kuraattorinkierros
DESCRIPTION:<html><head></head><body>Sunnuntaina 18.6. klo 14 voi tutustua KONTAKTi-näyttelyyn nykytaiteen asiantuntija Aura Seikkulan johdolla.<br><br>KONTAKTi on Vaasan Taiteilijaseuran ja Pohjalaisen Taiteilijaliiton yhteinen jäsennäyttely. Näyttelykokonaisuus rakentuu maalauksista, veistoksista, valokuvista- ja videotaiteesta sekä grafiikasta.<br><br>Kierros sisältyy museon sisäänpääsyyn. <br /><br />  Visit event in our website: <a href='https://tapahtumainfo.fi/tapahtuma/2023/06/kuraattorinkierros/325015'>Tapahtumainfo.fi</a></body></html>
END:VEVENT
END:VCALENDAR
