BEGIN:VCALENDAR
VERSION:2.0
PRODID:-//tapahtumainfo.fi//NONSGML Kävelyllä Pärnussa 11.8-11.9.2022//EN
METHOD:REQUEST
BEGIN:VEVENT
UID:20260425T202931-1533492828-tapahtumainfo.fi
DTSTAMP:20260425T202931
DTSTART:20220817T020000Z
DTEND:20501231T020000Z
LOCATION:Tikanojan taidekoti
SUMMARY:Kävelyllä Pärnussa 11.8-11.9.2022
DESCRIPTION:<html><head></head><body>Kävelyllä Pärnussa- Jalutuskäik Pärnus -valokuvanäyttely on esillä yleisölle Tikanojan taidekodin pihan ulkoaitaan kiinnitettynä kadun puolella. Kuvat ovat valokuvaaja Andres Adamsonin ottamia. Kävelyllä Pärnussa on vastavuoroinen näyttely ja se on jatkoa viime joulukuussa Pärnussa avattuun ulkoilmavalokuvanäyttelyyn Jalutuskäik Vaasas (suom. Kävelyllä Vaasassa), joka oli yleisön nähtävänä Pärnun Vaasa-puistossa (Vaasa park).<br><br>Näyttely on ulkotiloissa ja nähtävissä ympäri vuorokauden joka päivä. <br /><br />  Visit event in our website: <a href='https://tapahtumainfo.fi/tapahtuma/2022/08/kavelylla-parnussa-11-8-11-9-2022/325021'>Tapahtumainfo.fi</a></body></html>
END:VEVENT
END:VCALENDAR
