BEGIN:VCALENDAR
VERSION:2.0
PRODID:-//tapahtumainfo.fi//NONSGML COSTELLO & ROCK 'N ROLL BOYS//EN
METHOD:REQUEST
BEGIN:VEVENT
UID:20260424T084511-937780181-tapahtumainfo.fi
DTSTAMP:20260424T084511
DTSTART:20231123T190000Z
DTEND:20231123T020000Z
LOCATION:Järvenpää-talo, Sibelius-sali
SUMMARY:COSTELLO & ROCK 'N ROLL BOYS
DESCRIPTION:<html><head></head><body>Popeda-ikoni, kitaristi Costello Hautamäki & Rock´n Roll Boys-yhtyeen settilista koostuu etenkin Popedan sekä hänen omista suomirock-klassikoistaan. Ja saattaapa setistä löytyä myös muutama ulkomainen rokkiklassikkokin!<br><br>Costello & Rock’n’Roll Boys kiertueella lokakuusta joulukuun puoleenväliin 2023! <br /><br />  Visit event in our website: <a href='https://tapahtumainfo.fi/tapahtuma/2023/11/costello-rock-n-roll-boys/327304'>Tapahtumainfo.fi</a></body></html>
END:VEVENT
END:VCALENDAR
