BEGIN:VCALENDAR
VERSION:2.0
PRODID:-//tapahtumainfo.fi//NONSGML Lasten ruukkikierros - yleisökierros//EN
METHOD:REQUEST
BEGIN:VEVENT
UID:20260424T132529-1123977555-tapahtumainfo.fi
DTSTAMP:20260424T132529
DTSTART:20231028T020000Z
DTEND:20500101T020000Z
LOCATION:Ahlström Voyage
SUMMARY:Lasten ruukkikierros - yleisökierros
DESCRIPTION:<html><head></head><body>Lasten kierroksella tutustutaan ruukin elämään lasten näkökulmasta eri aikakausina. <br><br>Opas kertoo lapsille mielenkiintoisia tarinoita ja lapset voivat itse tutkia jännittäviä yksityiskohtia, sekä rakennuksissa että puutarhassa. Saattaa olla, että kummituskin näyttäytyy! <br><br>Kierroksella ollaan sekä sisällä että ulkona. Kävelyä tulee n. 700 m. Lapsi voi osallistua joko yksin tai aikuisen kanssa. Alle seitsemän vuotiaat lapset vain aikuisen kanssa. <br><br>Kierros lähtee Ahlström Voyage -näyttelytilastamme, osoitteesta Makkarakoskentie 34 B<br><br>Museokorttia voi samassa kohteessa käyttää vain kerran päivässä yhdelle kierrokselle. Toisen kierroksen hinta Museokorttilaiselle 16. <br /><br />  Visit event in our website: <a href='https://tapahtumainfo.fi/tapahtuma/2023/10/lasten-ruukkikierros-yleisokierros/327379'>Tapahtumainfo.fi</a></body></html>
END:VEVENT
END:VCALENDAR
