BEGIN:VCALENDAR
VERSION:2.0
PRODID:-//tapahtumainfo.fi//NONSGML Isännän opastama kartanokierros Härkälässä//EN
METHOD:REQUEST
BEGIN:VEVENT
UID:20260423T114253-654968424-tapahtumainfo.fi
DTSTAMP:20260423T114253
DTSTART:20230401T020000Z
DTEND:20500101T020000Z
LOCATION:Härkälän kartano
SUMMARY:Isännän opastama kartanokierros Härkälässä
DESCRIPTION:<html><head></head><body> <br /><br />  Visit event in our website: <a href='https://tapahtumainfo.fi/tapahtuma/2023/04/isannan-opastama-kartanokierros-harkalassa/327875'>Tapahtumainfo.fi</a></body></html>
END:VEVENT
END:VCALENDAR
