BEGIN:VCALENDAR
VERSION:2.0
PRODID:-//tapahtumainfo.fi//NONSGML Lauri Leppänen - Valon ja varjon mestari//EN
METHOD:REQUEST
BEGIN:VEVENT
UID:20260425T202905-1421175289-tapahtumainfo.fi
DTSTAMP:20260425T202905
DTSTART:20230204T020000Z
DTEND:20501231T020000Z
LOCATION:Huittisten museo
SUMMARY:Lauri Leppänen - Valon ja varjon mestari
DESCRIPTION:<html><head></head><body>. Leppänen oli taiteilijana monipuolinen &ndash; hänen tuotannostaan löytyy niin monumentaaliveistoksia kuin mitaleja ja muotokuvia. Lauri Leppäsen laaja tuotanto on kuitenkin jäänyt melko vähälle huomiolle. Keväällä 2023 yleisölle avatussa näyttelyssä on esillä teoksia taiteilijan koko uran ajalta, 1920-luvulta 1970-luvulle.<br><br>Leppäsen lapsuudenkoti oli Huittisissa, mutta aikuisikänsä hän asui Ähtärissä ja Helsingissä. Huittisten museon Lauri Leppäsen kokoelman alku on vuodessa 1966, jolloin taiteilija lahjoitti museolle yli 70 työtään. Kokoelma on vuosien mittaan karttunut toistasataa työtä käsittäväksi. Veistosten lisäksi kokoelmassa on reliefejä, mitaleja ja mitaliluonnoksia sekä luonnospiirustuksia.<br><br>Leppäsen tunnetuimpia töitä ovat Minna Canthin muistomerkki (1951) Hämeenpuistossa Tampereella sekä Eino Leinon muistomerkki (1953) Helsingin Esplanadinpuistossa. Yhtenä Leppäsen päätyönä pidetään Kullervo-veistosta (1928), joka on pronssisena Kansallisgallerian kokoelmissa sekä Huittisissa Keskuskoulun puistikossa. Veistos on kipsisenä esillä näyttelyssä.<br><br>Jääkäritaustaan johtuen Leppänen sai toteutettavakseen useita sotilasaiheisia töitä ja sankarihautojen muistomerkkejä. Leppäsen käsialaa ovat mm. Seinäjoen jääkäripatsas (1958), jääkärimuistomerkit Latvian Klapkalnciemskissä (1929, pystytetty uudelleen 2004) ja Lockstedterissä Saksassa (1939) sekä hänen viimeiseksi työkseen jäänyt Jääkärimitali (1975). Leppäsen sankarimuistomerkki löytyy mm. Huittisten, Vammalan, Sammatin, Ruoveden ja Korppoon sankarihaudoilta.<br><br>Näyttely on esillä museon kolmannessa kerroksessa, jonne on kulku vain portaiden kautta. <br /><br />  Visit event in our website: <a href='https://tapahtumainfo.fi/tapahtuma/2023/02/lauri-leppanen-valon-ja-varjon-mestari/327888'>Tapahtumainfo.fi</a></body></html>
END:VEVENT
END:VCALENDAR
