BEGIN:VCALENDAR
VERSION:2.0
PRODID:-//tapahtumainfo.fi//NONSGML Joulukuun Museokorttietu: Englund-seinäkalenteri -10 %//EN
METHOD:REQUEST
BEGIN:VEVENT
UID:20260425T163147-248769596-tapahtumainfo.fi
DTSTAMP:20260425T163147
DTSTART:20231120T020000Z
DTEND:20501231T020000Z
LOCATION:Rosenlew-museo
SUMMARY:Joulukuun Museokorttietu: Englund-seinäkalenteri -10 %
DESCRIPTION:<html><head></head><body>Mestarikuvaaja John Englundin valokuvia sisältävä v. 2024 seinäkalenteri nyt saatavana Rosenlew-museon museokaupasta. <br><br>Kalenterin normaalihinta 15 . <br>Etu on voimassa 1.-31.12.2023.<br><br>Näyttely &rdquo;Englund&rdquo; avautuu Satakunnan Museossa toukokuussa 2024. <br /><br />  Visit event in our website: <a href='https://tapahtumainfo.fi/tapahtuma/2023/11/joulukuun-museokorttietu-englund-seinakalenteri-10/329319'>Tapahtumainfo.fi</a></body></html>
END:VEVENT
END:VCALENDAR
