BEGIN:VCALENDAR
VERSION:2.0
PRODID:-//tapahtumainfo.fi//NONSGML Kolmas soitto//EN
METHOD:REQUEST
BEGIN:VEVENT
UID:20260423T031334-727807747-tapahtumainfo.fi
DTSTAMP:20260423T031334
DTSTART:20231103T020000Z
DTEND:20501231T020000Z
LOCATION:Teatterimuseo
SUMMARY:Kolmas soitto
DESCRIPTION:<html><head></head><body>"Esityksen tekeminen on kokonaisvaltainen prosessi, jonka keskeisiÃ¤ ainesosia ovat unelmat ja intohimo. Unelmat syntyvÃ¤t siellÃ¤, johon emme yletÃ¤ vielÃ¤ â ja jonne pÃ¤Ã¤semisen tavoitteleminen saa sydÃ¤men lyÃ¶mÃ¤Ã¤n kiivaammin."<br><br>Kolmas soitto yhdistÃ¤Ã¤ esittÃ¤vien taiteiden lajit â teatterin, tanssin, oopperan, sirkuksen ja esitystaiteen â yhteisen sateenvarjon alle. NÃ¤yttely avaa esitysprosessin ideasta valmistelu- ja harjoitusvaiheen kautta esityshetkeen ja sen yli. NÃ¤yttelysuunnittelun lÃ¤htÃ¶kohtina ovat olleet taiteidenvÃ¤lisyys, esittÃ¤vien taiteiden kentÃ¤n monimuotoisuuden nÃ¤kyvÃ¤ksi tekeminen, inklusiivisuus ja kÃ¤vijÃ¤ kokijana.<br><br>Teatterimuseon tilaan tullessaan kÃ¤vijÃ¤ astuu esityksen valmistamisen moniulotteiseen maailmaan. NÃ¤yttelyn historialliset elementit ja uusin uusi kertovat siitÃ¤, mikÃ¤ esityksen valmistamisessa on ikiaikaista ja kaikille esittÃ¤vÃ¤n taiteen lajeille yhteistÃ¤. Taiteita ei erotella omiksi kokonaisuuksikseen, vaan ne sulautuvat toisiinsa temaattisesti ja tilallisesti.<br><br>Esitysprosessin rinnalla herÃ¤tellÃ¤Ã¤n ajatuksia ja nostetaan esiin ajankohtaisia teemoja. NykypÃ¤ivÃ¤n esitykset kÃ¤sittelevÃ¤t ympÃ¤rÃ¶ivÃ¤Ã¤ yhteiskuntaa ja aikaa monimuotoisesti, rohkeasti, ennakkoluulottomasti. Millaisia vÃ¤itteitÃ¤ maailmasta ja ihmisestÃ¤ esitetÃ¤Ã¤n? Miten esimerkiksi luontokato, ilmastokriisi tai ihmisoikeudet nÃ¤kyvÃ¤t esittÃ¤vissÃ¤ taiteissa?<br><br>Kolmas soitto esittelee taiteiden erityispiirteitÃ¤ ja taiteen tekijÃ¶itÃ¤. Se myÃ¶s rohkaisee kÃ¤vijÃ¤Ã¤ elÃ¤ytymÃ¤Ã¤n, kokeilemaan itse, samaistumaan, etsimÃ¤Ã¤n, lÃ¶ytÃ¤mÃ¤Ã¤n. KÃ¤vijÃ¤ saa astua esityksen tekemisen virtaan, poimia esityksen aineksia mukaansa matkan varrelta, koota oman esityksensÃ¤, jonka voi nÃ¤yttelypolun pÃ¤Ã¤ssÃ¤ olevalla kokeilunÃ¤yttÃ¤mÃ¶llÃ¤ esittÃ¤Ã¤.<br><br>"NÃ¤yttÃ¤mÃ¶llÃ¤ voi tapahtua mitÃ¤ vain! EsittÃ¤vissÃ¤ taiteissa utopistisimmatkin unelmat voivat toteutua, vallaton astua valokeilaan, vallitsevat normit lakata olemasta."<br><br>Kun kolmas soitto kaikuu, on esityksen aika! <br /><br />  Visit event in our website: <a href='https://tapahtumainfo.fi/tapahtuma/2023/11/kolmas-soitto/329517'>Tapahtumainfo.fi</a></body></html>
END:VEVENT
END:VCALENDAR
