BEGIN:VCALENDAR
VERSION:2.0
PRODID:-//tapahtumainfo.fi//NONSGML Godspeed You! Black Emperor (CAN)//EN
METHOD:REQUEST
BEGIN:VEVENT
UID:20260420T172408-1649082026-tapahtumainfo.fi
DTSTAMP:20260420T172408
DTSTART:20240410T020000Z
DTEND:20240410T020000Z
LOCATION:Tullikamarin Pakkahuone
SUMMARY:Godspeed You! Black Emperor (CAN)
DESCRIPTION:<html><head></head><body><p><strong>GYBE</strong><br /> returns with another soundtrack for our times. As the heretical <br />anarcho-punk spirit of the title implies, Godspeed harnesses some <br />particularly raw power,<br /> spittle and grit across two riveting 20-minute side-length trajectories<br /> of noise-drenched widescreen post-rock: inexorable chug blossoms into <br />blown-out twang, as some of the band’s most soaring, searing melodies <br />ricochet and converge amidst violin and bassline<br /> counterpoint. Field recordings and roiling semi-improvised passages <br />frame these fervent epics, and two shorter self-contained 6-minute <br />pieces find the band at its most devastatingly beautiful, haunting and <br />elegiac. Poignant atmospherics, noise-drenched orchestration,<br /> drone, hypnotic swingtime crescendos, inexorably-layered towers of <br />distorted clarion sound: STATE’S END encapsulates every beloved facet of<br /> the band. Twenty-five years on, this new album is as vital, stirring, <br />timely and implacable as any in Godspeed You!<br /> Black Emperor’s storied discography. <br></p><br /><p>Just as STATE’S END summons the gamut of Godspeed’s constituent sonic <br />trademarks, so the album artwork spans the entirety of the band’s visual<br /> history: the grainy monochromatic photography of recent releases finds <br />its way onto the inner sleeves, while the gatefold<br /> cover art harkens back to the iconic graphics of earlier classic <br />records like Slow Riot For New Zero Kanada and Lift<br /> Your Skinny Fists Like Antennas To Heaven. STATE’S END features <br />illustrations by William Schmiechen, with the front cover taijitu <br />flowers and back cover tear gas canisters rendered in raised <br />thermographic black ink on the double-vinyl album jacket. The<br /> illuminated cross from Godspeed’s debut F#A#∞ also makes a reappearance on the inside gatefold drawing, in recurrent homage to the electrified hilltop landmark<br /> crucifix of the band’s Montréal hometown.<br><br /><br><br />STATE’S END was recorded and mixed in Montréal in October 2020 at the <br />group’s homebase studio Thee Mighty Hotel2Tango by Jace Lasek, the <br />veteran award-winning indie producer (and co-founder of The Besnard <br />Lakes) who works with Godspeed for the first time on<br /> this recording.<br><br /><br><br />Thanks for listening. OUR SIDE HAS TO WIN. (R.I.P. D.H.)</p><br /><p>Opening&nbsp;ISLAJA.</p><br /><br /><p></p><br /><p><strong>Konsertti on seisova tapahtuma, istuimia hyvin rajoitetusti.<br></strong></p><br /><p><strong>Lipun hinta nousee Tiketissä tapahtumapäivänä ovien auetessa <br />ja myynti jatkuu verkkokaupassa ovien auettua, mikäli lippuja on <br />jäljellä. <br></strong></p><br /><p><strong>****</strong><strong><br></strong></p><br /><p><strong><strong>Tutustu Tullikamarin <a href="https://tullikamari.fi/info/turvallisuus-ja-turvallisemman-tilan-periaatteet" target="_blank">turvallisemman tilan periaatteisiin</a>.</strong><u><br></u></strong></p><br /><p><strong><strong><a href="https://tullikamari.fi/info/esteettomyys/" target="_blank">Lue lisätietoa esteettömyydestä!</a></strong><br></strong></p> <br /><br />  Visit event in our website: <a href='https://tapahtumainfo.fi/tapahtuma/2024/04/godspeed-you-black-emperor-can/333468'>Tapahtumainfo.fi</a></body></html>
END:VEVENT
END:VCALENDAR
