BEGIN:VCALENDAR
VERSION:2.0
PRODID:-//tapahtumainfo.fi//NONSGML Luutarha//EN
METHOD:REQUEST
BEGIN:VEVENT
UID:20260424T115137-867617377-tapahtumainfo.fi
DTSTAMP:20260424T115137
DTSTART:20161001T020000Z
DTEND:20300101T020000Z
LOCATION:Aboa Vetus
SUMMARY:Luutarha
DESCRIPTION:<html><head></head><body>Aboa Vetus Ars Novassa on historiansa aikana ollut kolme luihin keskittyvää näyttelyä. Kiinnostus on ollut valtavaa. Uusia arkeologisia löytöjä esiteltäessä suosituimpia ovat olleet luulöydöt ja kokonaiset eläinten luurangot. Kaikesta tästä viisastuneena: Luutarha tuo lisää luita esille museoon &ndash; pysyvästi.<br><br>Luutarha esittelee yli 30 eläinlajia, jotka liittyvät museon alueeseen tai avaavat muutoin eläinten historiaa. Esillä on luulöytöjä ja eläinjäänteitä; kokonaisista luurangoista pienenpieniin kalanruotoihin. Mukana näyttelyssä on niin hyöty-, koti-, riista- kuin haittaeläimiäkin. Kuvataiteilija Taru Muuraimen piirroskuvat täydentävät löytöjen kertomaa tarinaa.<br><br>Tiesitkö, että hauen nikamista on valmistettu leluja ja ahvenen evistä on ennustettu? Entä mihin kaikkeen lammasta ja vuohta on voitu hyödyntää? Miten kissoihin ja koiriin on suhtauduttu vuosisatoja sitten? <br><br>Luut kertovat konkreettisella tavalla joskus eläneistä eläimistä. Keskiaikaisen kivitalon kellarista löytynyt kissa tai kaivon pohjalta kaivauksissa esiin tullut porsaan luuranko houkuttelevat kuvittelemaan eläimen tarinan. Tutkimustiedon avulla voidaan kertoa eläimen sukupuolesta, koosta, terveydestä ja kuoliniästä. Luissa olevat kolhut ja naarmut kertovat usein toisten eläinten käyttäytymisestä, ihmisten toiminnasta tai eläinten ja ihmisten yhteiselämästä.<br><br>Luututkijan pöydän ääressä pääsee tutkimaan aitoja, vanhoja eläinten luita. Mitä kaikkea niiden avulla voidaankaan saada selville! Työpöydältä voi valita kiinnostavan luun, koskettaa ja tarkastella sitä. Luun voi lopuksi asettaa tunnistimeen, jonka seurauksena hauskat ja opettavaiset videot kertovat lisää kyseisestä luusta. <br /><br />  Visit event in our website: <a href='https://tapahtumainfo.fi/tapahtuma/2016/10/luutarha/333865'>Tapahtumainfo.fi</a></body></html>
END:VEVENT
END:VCALENDAR
