BEGIN:VCALENDAR
VERSION:2.0
PRODID:-//tapahtumainfo.fi//NONSGML Koiteli elää #suomenkauneinfestivaali//EN
METHOD:REQUEST
BEGIN:VEVENT
UID:20260419T182449-748575415-tapahtumainfo.fi
DTSTAMP:20260419T182449
DTSTART:20240816T020000Z
DTEND:20240816T020000Z
LOCATION:Koitelin Sahasaari
SUMMARY:Koiteli elää #suomenkauneinfestivaali
DESCRIPTION:<html><head></head><body><h3>"Se mikä suurella sydämellä tehdään, se onnistuu."</h3><br /><p>Koiteli elää #suomenkauneinfestivaali pääsee jälleen ihastuttamaan oululaista tapahtumakesää! Elokuussa 16.-17.8.2024 juhlitaan musiikin ja luonnon kauniissa symbioosissa Koitelin upeassa Sahasaaressa.<br></p><br /><br /><p><u><strong><strong>Portit</strong></strong></u></p><br /><p><strong>Pe<strong> klo 16:00<br>La klo 14:00<br></strong></strong></p><br /><p><strong><strong>Lippurajoitus max. 4 lippua / asiakas / päivä.<br> </strong> </strong></p><br /><p>Nettikaupassa ei ole mahdollista tehdä varauksia. Puhelinpalvelussa voi varata lipun kahden päivän ajaksi.</p><br /><p>Molempina päivinä tapahtuman jälkeen alueelta on ilmaisia bussikuljetuksia Kiimingin ja Jäälin kautta Oulun keskustaan. </p><br /><p>Lippu vaihdetaan rannekkeeseen ennakkoon tai tapahtuman porteilla.<strong><strong> Lue lisää rannekkeenvaihdosta<a href="https://koitelielaa.fi/liput/" target="_blank"> tapahtuman sivuilta.</a><a href="https://koitelielaa.fi/liput/" target="_blank"><br></a></strong></strong></p><br /><p><strong>***<br></strong></p><br /><p><strong>Esteettömyys:</strong></p><br /><p>Avustaja pääsee tapahtumaan ilmaiseksi avustettavan kanssa samalla lipulla: <strong>kyllä</strong><br>Tapahtumaan on esteetön pääsy pyörätuolilla: <strong>kyllä</strong><br>Tapahtumapaikalla on esteetön WC: <strong>kyllä</strong><br>Tapahtumapaikalla on mahdollisuus induktiosilmukan käyttöön: <strong>ei</strong><br>Tapahtumassa on pyörätuolikoroke: <strong>ei</strong><br>Pyörätuolia käyttävää tai erityistä avustusta tarvitsevaa asiakasta pyydetään olemaan etukäteen yhteydessä sujuvan sisäänpääsyn varmistamiseksi: <strong>info@koitelielaa.fi / Mari Järvinen / p. 0405136112</strong></p> <br /><br />  Visit event in our website: <a href='https://tapahtumainfo.fi/tapahtuma/2024/08/koiteli-elaa-suomenkauneinfestivaali/334138'>Tapahtumainfo.fi</a></body></html>
END:VEVENT
END:VCALENDAR
