BEGIN:VCALENDAR
VERSION:2.0
PRODID:-//tapahtumainfo.fi//NONSGML Maisema  ympäristö  luonnos -verkkonäyttely//EN
METHOD:REQUEST
BEGIN:VEVENT
UID:20260425T190331-1464830906-tapahtumainfo.fi
DTSTAMP:20260425T190331
DTSTART:20210223T020000Z
DTEND:20501231T020000Z
LOCATION:Jyväskylän taidemuseo
SUMMARY:Maisema  ympäristö  luonnos -verkkonäyttely
DESCRIPTION:<html><head></head><body>Jyväskylän taidemuseon osuus painottuu maisemaan, luontoon ja kulttuuriympäristöön nykytaiteen, myös käsitetaiteen ja abstraktin taiteen, näkökulmasta. Kaikki taiteilijat ovat asuneet ja työskentelevät tai ovat työskennelleet Keski-Suomessa. Teokset on valittu Jyväskylän kaupungin taidekokoelmaan hankituista teoksista vuosilta 1975 2017.<br><br>https://jyvaskylantaidemuseo.finna.fi/maisema_ymparisto_luonnos/<br><br>Näyttelyssä pohditaan maisema aiheisten taideteosten ja käsityöhön liittyvien luonnosten ja piirrosten kulttuurista luonnetta. Kautta aikojen kuvataiteen avulla on tuotettu ja ylläpidetty käsitystä suomalaisuudesta ja suomalaisista. Luonnon maisemasta voidaan erottaa kulttuuriympäristö, joka on luonteeltaan ihmisen muokkaamaa kulttuurimaisemaa ja rakennettua kulttuuriympäristöä. Jokaisesta Suomen maakunnasta on pyritty löytämään sille ominaisia kulttuurimaiseman piirteitä.<br><br>Kodin piirissä näkymät niin luontomaisemista kuin rakennetusta kulttuuriympäristöstä toteutuivat kodin tekstiileissä. Suomalainen luonto tuli mukaan sisustukseen kudottujen liinojen, peitteiden, mattojen, pannumyssyjen, seinätekstiilien ja verhojen aiheissa. Ajanhengen mukaisia tekstiilitekniikoita käyttäen kotien seinille siirtyneet värikylläisyyttä hehkuvat kukat, kasvit, eläimet ja muut luonnonilmiöt varmistivat, ettei luonto betoniviidakossakaan päässyt unohtumaan.<br><br><br>KAPA<br>Iso vaakakuva; Sarjasta Maisemaa etsimässä <br>2012<br>valokuvateos<br>Jyväskylän kaupungin taidekokoelmat <br /><br />  Visit event in our website: <a href='https://tapahtumainfo.fi/tapahtuma/2021/02/maisema-ymparisto-luonnos-verkkonayttely/334151'>Tapahtumainfo.fi</a></body></html>
END:VEVENT
END:VCALENDAR
