BEGIN:VCALENDAR
VERSION:2.0
PRODID:-//tapahtumainfo.fi//NONSGML Tuure Kilpeläinen + Miljoonasade//EN
METHOD:REQUEST
BEGIN:VEVENT
UID:20260419T163849-1864535799-tapahtumainfo.fi
DTSTAMP:20260419T163849
DTSTART:20240309T220000Z
DTEND:20240309T020000Z
LOCATION:PEURUNKA AREENA
SUMMARY:Tuure Kilpeläinen + Miljoonasade
DESCRIPTION:<html><head></head><body> <br /><br />  Visit event in our website: <a href='https://tapahtumainfo.fi/tapahtuma/2024/03/tuure-kilpelainen-miljoonasade/335286'>Tapahtumainfo.fi</a></body></html>
END:VEVENT
END:VCALENDAR
