BEGIN:VCALENDAR
VERSION:2.0
PRODID:-//tapahtumainfo.fi//NONSGML Hyvinkääsalin lahjakortti//EN
METHOD:REQUEST
BEGIN:VEVENT
UID:20260425T203039-1821357603-tapahtumainfo.fi
DTSTAMP:20260425T203039
DTSTART:20261231T220000Z
DTEND:20261231T020000Z
LOCATION:Hyvinkääsali
SUMMARY:Hyvinkääsalin lahjakortti
DESCRIPTION:<html><head></head><body>Hyvinkääsalin lahjakortti on vaihdettavissa mihin tahansa Hyvinkääsalin tapahtumaan.<br><br>Lahjakortti on voimassa yhden (1) vuoden ostopäivästä, ja käy maksuvälineenä Lippu.fi-myyntipisteissä (ei R-kioskilla eikä verkkokaupassa) sekä Hyvinkääsalin lipunmyynnissä.<br><br>Lahjakortin arvoa ei voida hyvittää sen voimassaolon päätyttyä.<br><br>Lahjakortteja voi ostaa seuraaville summillle:<br>Lahjakortti 10 €, lahjakortin hinta palvelumaksuineen 11 €<br>Lahjakortti 20 €, lahjakortin hinta palvelumaksuineen 21 €<br>Lahjakortti 30 €, lahjakortin hinta palvelumaksuineen 31 €<br>Lahjakortti 40 €, lahjakortin hinta palvelumaksuineen 41 €<br>Lahjakortti 50 €, lahjakortin hinta palvelumaksuineen 51 €<br>Lahjakortti 70 €, lahjakortin hinta palvelumaksuineen 71 €<br>Lahjakortti 100 €, lahjakortin hinta palvelumaksuineen 101 €<br><br> <br /><br />  Visit event in our website: <a href='https://tapahtumainfo.fi/tapahtuma/2026/12/hyvinkaasalin-lahjakortti/336808'>Tapahtumainfo.fi</a></body></html>
END:VEVENT
END:VCALENDAR
