BEGIN:VCALENDAR
VERSION:2.0
PRODID:-//tapahtumainfo.fi//NONSGML Kymi Sinfonietta: VAPPUKONSERTTI: MUSIC OF DIVAS//EN
METHOD:REQUEST
BEGIN:VEVENT
UID:20260425T190451-159246530-tapahtumainfo.fi
DTSTAMP:20260425T190451
DTSTART:20240501T120000Z
DTEND:20240501T020000Z
LOCATION:KUUSANKOSKITALO
SUMMARY:Kymi Sinfonietta: VAPPUKONSERTTI: MUSIC OF DIVAS
DESCRIPTION:<html><head></head><body>Kymi Sinfonietta: VAPPUKONSERTTI: MUSIC OF DIVAS<br /><br />Ti 30.4. klo 19 Kotkan konserttitalo<br /><br />Kapellimestari: Antti Rissanen<br />Laulusolisti: Diandra<br /><br />Pirkahtelevaa iloa ja kuplivaa riemua Kymi Sinfoniettan vappuun tuo kapellimestari-pasunisti Antti Rissasen ja säkenöivän Diandran paketoima Music of Divas -konsertti. Diandra laulaa lempiartistiensa levyttämiä kappaleita, musiikkia kuullaan muun muassa Tina Turnerilta, Chaka Khanilta, Whitney Houstonilta, Adelelta, Celine Dionilta, Gloria Gaynorilta, Madonnalta ja Lady Gagalta. Huikeaääninen ja moneen musiikkityyliin taipuva Diandra on noussut suuren yleisön tietoisuuteen viime aikoina mm. Elämäni Biisi -ohjelmassa. <br /><br />  Visit event in our website: <a href='https://tapahtumainfo.fi/tapahtuma/2024/05/kymi-sinfonietta-vappukonsertti-music-of-divas/337157'>Tapahtumainfo.fi</a></body></html>
END:VEVENT
END:VCALENDAR
